BEGIN:VCALENDAR
VERSION:2.0
PRODID:-//ChamberMaster//Event Calendar 2.0//EN
METHOD:PUBLISH
X-PUBLISHED-TTL:P3D
REFRESH-INTERVAL:P3D
CALSCALE:GREGORIAN
BEGIN:VEVENT
DTSTART;VALUE=DATE:20120612
DTEND;VALUE=DATE:20120613
TRANSP:TRANSPARENT
X-MICROSOFT-CDO-ALLDAYEVENT:TRUE
SUMMARY:Minimize your Cancer Risk with Simple Lifestyle Changes
DESCRIPTION:Tuesday\, December 18\, 2012\n\n6:30-8 pm\n\nMinimize your Cancer Risk with Simple Lifestyle Changes\n\nClass Code: 3C52\n\n\n\nIf you're concerned about cancer prevention\, take comfort in the fact that small changes in your daily life can make a big difference. Join Thomas Weyburn\, DO.\, board certified oncologist\, for a discussion on ways to reduce your risk by eating a healthy diet\, maintaining a healthy weight and staying physically active.
X-ALT-DESC;FMTTYPE=text/html:Tuesday\, December 18\, 2012<br />\n6:30-8 pm<br />\nMinimize your Cancer Risk with Simple Lifestyle Changes<br />\nClass Code: 3C52<br />\n<br />\nIf you&rsquo\;re concerned about cancer prevention\, take comfort in the fact that small changes in your daily life can make a big difference. Join Thomas Weyburn\, DO.\, board certified oncologist\, for a discussion on ways to reduce your risk by eating a healthy diet\, maintaining a healthy weight and staying physically active.<br />\n<br />\n<br />\n<br />\n
LOCATION:Advocate Good Shepherd Hospital 450 W. Highway 22\, Barrington\, Il
UID:e.138.3461
SEQUENCE:3
DTSTAMP:20260424T061159Z
URL:https://business.carygrovechamber.com/events/details/minimize-your-cancer-risk-with-simple-lifestyle-changes-06-12-2012-3461
END:VEVENT

END:VCALENDAR
