BEGIN:VCALENDAR
VERSION:2.0
PRODID:-//ChamberMaster//Event Calendar 2.0//EN
METHOD:PUBLISH
X-PUBLISHED-TTL:P3D
REFRESH-INTERVAL:P3D
CALSCALE:GREGORIAN
BEGIN:VEVENT
DTSTART;VALUE=DATE:20110521
DTEND;VALUE=DATE:20110522
TRANSP:TRANSPARENT
X-MICROSOFT-CDO-ALLDAYEVENT:TRUE
SUMMARY:Miss Cary and Miss FRG Business Scholarship Pageant
DESCRIPTION:Local girls to compete for business \n	\n		scholarships in Miss Cary/FRG Pageant\n	\n		 \n	\n		Several local high school girls compete in the 2011 Miss Cary and Miss Fox River Grove Business Scholarship Pageant. The event will be held on Saturday\, May 21 at 7 p.m. at Cary-Grove High School.  Winners of the Pageant receive business scholarships from the Chamber and various other prizes.
X-ALT-DESC;FMTTYPE=text/html:<div>\n	<div style="margin: 0in 0in 0pt">\n		<strong>Local girls to compete for business </strong></div>\n	<div style="margin: 0in 0in 0pt">\n		<strong>scholarships in Miss Cary/FRG Pageant</strong></div>\n	<div style="margin: 0in 0in 0pt">\n		&nbsp\;</div>\n	<div style="margin: 0in 0in 0pt">\n		Several local high school girls compete in the 2011 Miss Cary and Miss Fox River Grove Business Scholarship Pageant.&nbsp\;The event will be held on Saturday\, May 21 at 7 p.m. at Cary-Grove High School.&nbsp\;<strong>&nbsp\;</strong>Winners of the Pageant receive business scholarships from the Chamber and various other prizes.</div>\n	<div style="margin: 0in 0in 0pt">\n		&nbsp\;</div>\n</div>\n
LOCATION:Cary-Grove High School
UID:e.138.691
SEQUENCE:3
DTSTAMP:20260423T121217Z
URL:https://business.carygrovechamber.com/events/details/miss-cary-and-miss-frg-business-scholarship-pageant-05-21-2011-691
END:VEVENT

END:VCALENDAR
