BEGIN:VCALENDAR
VERSION:2.0
PRODID:-//ChamberMaster//Event Calendar 2.0//EN
METHOD:PUBLISH
X-PUBLISHED-TTL:P3D
REFRESH-INTERVAL:P3D
CALSCALE:GREGORIAN
BEGIN:VEVENT
DTSTART:20120520T000000Z
DTEND:20120520T030000Z
X-MICROSOFT-CDO-ALLDAYEVENT:FALSE
SUMMARY:Miss Cary/Miss Fox River Grove Buiness Scholarship Pagaent
DESCRIPTION:2012 Miss Cary and Miss Fox River Grove Business Scholarship Pageant
X-ALT-DESC;FMTTYPE=text/html:2012 Miss Cary and Miss Fox River Grove Business Scholarship Pageant
LOCATION:Cary-Grove High School 2208 Three Oaks Road Cary\, IL
UID:e.138.2765
SEQUENCE:3
DTSTAMP:20260424T074532Z
URL:https://business.carygrovechamber.com/events/details/miss-cary-miss-fox-river-grove-buiness-scholarship-pagaent-05-19-2012-2765
END:VEVENT

END:VCALENDAR
