BEGIN:VCALENDAR
VERSION:2.0
PRODID:-//ChamberMaster//Event Calendar 2.0//EN
METHOD:PUBLISH
X-PUBLISHED-TTL:P3D
REFRESH-INTERVAL:P3D
CALSCALE:GREGORIAN
BEGIN:VEVENT
DTSTART;VALUE=DATE:20091124
DTEND;VALUE=DATE:20091125
TRANSP:TRANSPARENT
X-MICROSOFT-CDO-ALLDAYEVENT:TRUE
SUMMARY:Mixer at Countryside Flower Shop\, Nursery & Garden Center
DESCRIPTION:You?re invited to a holiday multi-chamber mixer hosted by Countryside Flower Shop\, Nursery & Garden Center tomorrow\, Tuesday\, November 24 from 5 to 7 p.m.  Enjoy food\, drinks and prizes!  Countryside will be celebrating 50 years\, 1960 ? 2010.  They are located at 5301 E. Terra Cotta Ave. (Rte 176\, Â½ mile west of Rte 31) in Crystal Lake.  Please RSVP to Marcy at marcy@countrysideflowershop.com or (815) 459-8130.
X-ALT-DESC;FMTTYPE=text/html:You?re invited to a holiday multi-chamber mixer hosted by Countryside Flower Shop\, Nursery & Garden Center tomorrow\, Tuesday\, November 24 from 5 to 7 p.m.  Enjoy food\, drinks and prizes!  Countryside will be celebrating 50 years\, 1960 ? 2010.  They are located at 5301 E. Terra Cotta Ave. (Rte 176\, Â½ mile west of Rte 31) in Crystal Lake.  Please RSVP to Marcy at marcy@countrysideflowershop.com or (815) 459-8130.
LOCATION:Countryside Flower Shop\, Nursery & Garden Center 5301 E. Terra Cotta Ave. (Rte 176\, Â½ mile west of Rte 31) in Crystal Lake
UID:e.138.631
SEQUENCE:3
DTSTAMP:20260424T140806Z
URL:https://business.carygrovechamber.com/events/details/mixer-at-countryside-flower-shop-nursery-garden-center-11-24-2009-631
END:VEVENT

END:VCALENDAR
