BEGIN:VCALENDAR
VERSION:2.0
PRODID:-//ChamberMaster//Event Calendar 2.0//EN
METHOD:PUBLISH
X-PUBLISHED-TTL:P3D
REFRESH-INTERVAL:P3D
CALSCALE:GREGORIAN
BEGIN:VEVENT
DTSTART:20090909T180000Z
DTEND:20090909T210000Z
X-MICROSOFT-CDO-ALLDAYEVENT:FALSE
SUMMARY:Mortgage Foreclosure Prevention - Free Seminar
DESCRIPTION:Mortgage Foreclosure Prevention on Wednesday\, September 9.Having trouble meeting mortgage payments?In default?Decrease in income causing mortgage problems?Become informed about the process and options available.
X-ALT-DESC;FMTTYPE=text/html:<div>Mortgage Foreclosure Prevention on Wednesday\, September 9.</div><div>Having trouble meeting mortgage payments?</div><div>In default?</div><div>Decrease in income causing mortgage problems?</div><div>Become informed about the process and options available.</div>
LOCATION:Wednesday\, September 91 to 4 p.m.
UID:e.138.567
SEQUENCE:3
DTSTAMP:20260424T163533Z
URL:https://business.carygrovechamber.com/events/details/mortgage-foreclosure-prevention-free-seminar-09-09-2009-567
END:VEVENT

END:VCALENDAR
