BEGIN:VCALENDAR
VERSION:2.0
PRODID:-//ChamberMaster//Event Calendar 2.0//EN
METHOD:PUBLISH
X-PUBLISHED-TTL:P3D
REFRESH-INTERVAL:P3D
CALSCALE:GREGORIAN
BEGIN:VEVENT
DTSTART:20260510T150000Z
DTEND:20260510T200000Z
X-MICROSOFT-CDO-ALLDAYEVENT:FALSE
SUMMARY:Mother's Day Brunch
DESCRIPTION:Mother's Day Brunch Buffet
X-ALT-DESC;FMTTYPE=text/html:Mother&#39\;s Day Brunch Buffet
LOCATION:Wild Onion Brewery & Banquets 22221 N. Pepper Road Lake Barrington IL 60010
UID:e.138.20914
SEQUENCE:3
DTSTAMP:20260424T083043Z
URL:https://business.carygrovechamber.com/events/details/mother-s-day-brunch-20914
END:VEVENT

END:VCALENDAR
