BEGIN:VCALENDAR
VERSION:2.0
PRODID:-//ChamberMaster//Event Calendar 2.0//EN
METHOD:PUBLISH
X-PUBLISHED-TTL:P3D
REFRESH-INTERVAL:P3D
CALSCALE:GREGORIAN
BEGIN:VEVENT
DTSTART;VALUE=DATE:20090510
DTEND;VALUE=DATE:20090511
TRANSP:TRANSPARENT
X-MICROSOFT-CDO-ALLDAYEVENT:TRUE
SUMMARY:Mother's Day Champagne Brunch - Holiday Inn
DESCRIPTION:Holiday Inn Crystal Lake is offering a Mother's Day Champagne Brunch on Sunday\, May 10 from 10 a.m. to 3 p.m. Featured items include made to order omelets\, cheese blintz\, scrambled eggs\, salad station\, beef burgundy and sauteed chicken piccata\, baked salmon\, a carving station with top sirloin and bone-in turkey breast. The children's buffet includes tater tots\, french toast sticks\, chicken nuggets\, macaroni & cheese and grand desserts featuring their famous chocolate fountain display\, fruit\, assorted cakes\, petit fours and French pastries. For reservations\, call (815) 404-2019. Holiday Inn is located at 800 South Route 31 in Crystal Lake.
X-ALT-DESC;FMTTYPE=text/html:<div>Holiday Inn Crystal Lake is offering a Mother's Day Champagne Brunch on Sunday\, May 10 from 10 a.m. to 3 p.m. Featured items include made to order omelets\, cheese blintz\, scrambled eggs\, salad station\, beef burgundy and sauteed chicken piccata\, baked salmon\, a carving station with top sirloin and bone-in turkey breast. The children's buffet includes tater tots\, french toast sticks\, chicken nuggets\, macaroni &amp\; cheese and grand desserts featuring their famous chocolate fountain display\, fruit\, assorted cakes\, petit fours and French pastries. For reservations\, call (815) 404-2019. Holiday Inn is located at 800 South Route 31 in Crystal Lake.</div>
LOCATION:Holiday Inn Crystal Lake800 South Route 31 in Crystal Lake
UID:e.138.465
SEQUENCE:3
DTSTAMP:20260424T215000Z
URL:https://business.carygrovechamber.com/events/details/mother-s-day-champagne-brunch-holiday-inn-05-10-2009-465
END:VEVENT

END:VCALENDAR
