BEGIN:VCALENDAR
VERSION:2.0
PRODID:-//ChamberMaster//Event Calendar 2.0//EN
METHOD:PUBLISH
X-PUBLISHED-TTL:P3D
REFRESH-INTERVAL:P3D
CALSCALE:GREGORIAN
BEGIN:VEVENT
DTSTART:20090510T143000Z
DTEND:20090510T183000Z
X-MICROSOFT-CDO-ALLDAYEVENT:FALSE
SUMMARY:Mothers Day Brunch - Chalet Hills
DESCRIPTION:Celebrate Mother's Day with Chalet Hill's Mother Day Brunch on Sunday\, May 10. Seatings are from 9:30 a.m. to 1:30 p.m.  Brunch will include traditional breakfast items\, donut decoration bar\, omelet station\, salad bar and luncheon items.  Cost is $25 for adults and $10 for children under 10.  As a special treat for mom\, add golf for your family.  The special rate for brunch goers is $39 for adults and $10 for children under 10.  All rates include new carts with Pro Link GPS system. Chalet Hills Golf Club is located at 943 Rawson Bridge Road in Cary.  For more information\, visit www.chaletgolf.com.
X-ALT-DESC;FMTTYPE=text/html:<p class="MsoNormal" style="margin: 0in 0in 0pt\; line-height: 14.4pt"><span style="font-size: 11pt\; color: black\; font-family: &quot\;Arial&quot\;\,&quot\;sans-serif&quot\;\; mso-bidi-font-size: 12.0pt\; mso-bidi-font-family: 'Times New Roman'">Celebrate Mother's Day with Chalet Hill's Mother Day Brunch on Sunday\, May 10. Seatings are from <st1:time w:st="on" minute="30" hour="9">9:30 a.m.</st1:time> to <st1:time w:st="on" minute="30" hour="13">1:30 p.m.</st1:time><span style="mso-spacerun: yes">&nbsp\; </span>Brunch will include traditional breakfast items\, donut decoration bar\, omelet station\, salad bar and luncheon items.<span style="mso-spacerun: yes">&nbsp\; </span>Cost is $25 for adults and $10 for children under 10.<span style="mso-spacerun: yes">&nbsp\; </span>As a special treat for mom\, add golf for your family.<span style="mso-spacerun: yes">&nbsp\; </span>The special rate for brunch goers is $39 for adults and $10 for children under 10.<span style="mso-spacerun: yes">&nbsp\; </span>All rates include new carts with Pro Link GPS system. Chalet Hills Golf Club is located at <st1:street w:st="on"><st1:address w:st="on">943 Rawson Bridge Road</st1:address></st1:street> in <st1:city w:st="on"><st1:place w:st="on">Cary</st1:place></st1:city>.<span style="mso-spacerun: yes">&nbsp\; </span>For more information\, visit www.chaletgolf.com. <o:p></o:p></span></p>
LOCATION:943 Rawson Bridge Rd.\, Cary
UID:e.138.450
SEQUENCE:3
DTSTAMP:20260424T214823Z
URL:https://business.carygrovechamber.com/events/details/mothers-day-brunch-chalet-hills-05-10-2009-450
END:VEVENT

END:VCALENDAR
