BEGIN:VCALENDAR
VERSION:2.0
PRODID:-//ChamberMaster//Event Calendar 2.0//EN
METHOD:PUBLISH
X-PUBLISHED-TTL:P3D
REFRESH-INTERVAL:P3D
CALSCALE:GREGORIAN
BEGIN:VEVENT
DTSTART;VALUE=DATE:20091205
DTEND;VALUE=DATE:20091206
TRANSP:TRANSPARENT
X-MICROSOFT-CDO-ALLDAYEVENT:TRUE
SUMMARY:MS Total Health Fair
DESCRIPTION:The Multiple Sclerosis Foundation is having a MS "Total Health" Fair at Advocate Good Shepherd Hospital\, 450 W. Highway 22 in Barrington on Saturday\, December 5. This interactive program will address your concerns on Multiple Sclerosis. Health screenings begin at 8:30 a.m. Free bone density screenings available to the first 25 pre-registrants. Registration and refreshments are at 9 a.m. with vendors\, coupons and giveaways. Lunch is at 12 noon. Space is limited\, call to RSVP at (800) 225-6495\, ext. 126.
X-ALT-DESC;FMTTYPE=text/html:<div>The Multiple Sclerosis Foundation is having a MS &quot\;Total Health&quot\; Fair at Advocate Good Shepherd Hospital\, 450 W. Highway 22 in Barrington on Saturday\, December 5. This interactive program will address your concerns on Multiple Sclerosis. Health screenings begin at 8:30 a.m. Free bone density screenings available to the first 25 pre-registrants. Registration and refreshments are at 9 a.m. with vendors\, coupons and giveaways. Lunch is at 12 noon. Space is limited\, call to RSVP at (800) 225-6495\, ext. 126.</div>
LOCATION:Advocate Good Shepherd Hospital\, 450 W. Highway 22 in Barrington
UID:e.138.651
SEQUENCE:3
DTSTAMP:20260424T124845Z
URL:https://business.carygrovechamber.com/events/details/ms-total-health-fair-12-05-2009-651
END:VEVENT

END:VCALENDAR
