BEGIN:VCALENDAR
VERSION:2.0
PRODID:-//ChamberMaster//Event Calendar 2.0//EN
METHOD:PUBLISH
X-PUBLISHED-TTL:P3D
REFRESH-INTERVAL:P3D
CALSCALE:GREGORIAN
BEGIN:VEVENT
DTSTART;VALUE=DATE:20100329
DTEND;VALUE=DATE:20100410
TRANSP:TRANSPARENT
X-MICROSOFT-CDO-ALLDAYEVENT:TRUE
SUMMARY:Mulch Madness at The Barn Nursery
DESCRIPTION:Order your bulk mulch now for convenient delivery from The Barn Nursery!
X-ALT-DESC;FMTTYPE=text/html:<div>Order your bulk mulch now for convenient delivery from The Barn Nursery!</div>
LOCATION:Barn Nursery & Landscape Center8109 South Route 31 at Rakow RoadCary\, IL
UID:e.138.782
SEQUENCE:3
DTSTAMP:20260424T110444Z
URL:https://business.carygrovechamber.com/events/details/mulch-madness-at-the-barn-nursery-03-29-2010-782
END:VEVENT

END:VCALENDAR
