BEGIN:VCALENDAR
VERSION:2.0
PRODID:-//ChamberMaster//Event Calendar 2.0//EN
METHOD:PUBLISH
X-PUBLISHED-TTL:P3D
REFRESH-INTERVAL:P3D
CALSCALE:GREGORIAN
BEGIN:VEVENT
DTSTART;VALUE=DATE:20091013
DTEND;VALUE=DATE:20091014
TRANSP:TRANSPARENT
X-MICROSOFT-CDO-ALLDAYEVENT:TRUE
SUMMARY:Multi Chamber Mixer - Family Service & Community Mental Health Center
DESCRIPTION:Family Service & Community Mental Health Center is hosting a Multi-Chamber Mixer on October 13\, 2009 from 5:30 to 7:30 p.m. in the Family Service Community Room at 4100 Veterans Parkway in McHenry.
X-ALT-DESC;FMTTYPE=text/html:Family Service & Community Mental Health Center is hosting a Multi-Chamber Mixer on October 13\, 2009 from 5:30 to 7:30 p.m. in the Family Service Community Room at 4100 Veterans Parkway in McHenry.
LOCATION:Family Service & Community Mental Health Center in theFamily Service Community Room located at4100 Veterans Parkway in McHenry.
UID:e.138.526
SEQUENCE:3
DTSTAMP:20260424T153620Z
URL:https://business.carygrovechamber.com/events/details/multi-chamber-mixer-family-service-community-mental-health-center-10-13-2009-526
END:VEVENT

END:VCALENDAR
