BEGIN:VCALENDAR
VERSION:2.0
PRODID:-//ChamberMaster//Event Calendar 2.0//EN
METHOD:PUBLISH
X-PUBLISHED-TTL:P3D
REFRESH-INTERVAL:P3D
CALSCALE:GREGORIAN
BEGIN:VEVENT
DTSTART:20090620T190000Z
DTEND:20090620T200000Z
X-MICROSOFT-CDO-ALLDAYEVENT:FALSE
SUMMARY:Natures Balance Acupuncture Hosts Free Lecture
DESCRIPTION:Nature's Balance Acupuncture Hosts Free Lecture   June 20Janine Jozwiak\, M.S.\, CCT\, L.Ac of Nature's Balance Acupuncture is hosting a free lecture on Medical Thermal Imaging on Saturday\, June 20 from 2 to 3 p.m.at Akasha Yoga Center\, located at 121 N. Main St. in Crystal Lake.   Thermography is a medical screening device for detecting breast cancer and other diseases using infrared detectors.  This procedure is non-invasive\, does not use radiation and causes no harm to the patient.  Call Nature's Balance Acupuncture at (815) 788-8383 to reserve your spot.  Food and supplies will also be collected for Turning Point.
X-ALT-DESC;FMTTYPE=text/html:<h1 style="margin: 0in 0in 0pt"><span style="font-family: &quot\;Arial&quot\;\,&quot\;sans-serif&quot\;\; mso-bidi-font-family: 'Times New Roman'"><font size="3">Nature&rsquo\;s Balance Acupuncture Hosts Free Lecture &ndash\; June 20</font></span></h1><h1 style="margin: 0in 0in 0pt"><span style="font-family: &quot\;Arial&quot\;\,&quot\;sans-serif&quot\;\; mso-bidi-font-family: 'Times New Roman'"><font size="3"><o:p></o:p></font></span></h1><p class="MsoNormal" style="margin: 0in 0in 0pt\; line-height: 14.4pt"><strong style="mso-bidi-font-weight: normal"><span style="font-size: 11pt\; color: black\; font-family: &quot\;Arial&quot\;\,&quot\;sans-serif&quot\;">Janine Jozwiak\, M.S.\, CCT\, L.Ac of Nature&rsquo\;s Balance Acupuncture</span></strong><span style="font-size: 11pt\; color: black\; font-family: &quot\;Arial&quot\;\,&quot\;sans-serif&quot\;"> is hosting a free lecture on Medical Thermal Imaging on Saturday\, June 20 from 2 to 3 p.m.at <st1:place w:st="on"><st1:placename w:st="on">Akasha</st1:placename> <st1:placename w:st="on">Yoga</st1:placename> <st1:placetype w:st="on">Center</st1:placetype></st1:place>\, located at <st1:street w:st="on"><st1:address w:st="on">121 N. Main St.</st1:address></st1:street> in <st1:city w:st="on"><st1:place w:st="on">Crystal Lake</st1:place></st1:city>.<span style="mso-spacerun: yes">&nbsp\;&nbsp\; </span>Thermography is a medical screening device for detecting breast cancer and other diseases using infrared detectors.&nbsp\; This procedure is non-invasive\, does not use radiation and causes no harm to the patient.&nbsp\; Call Nature&rsquo\;s Balance Acupuncture at (<strong><span style="font-weight: normal\; font-family: &quot\;Arial&quot\;\,&quot\;sans-serif&quot\;\; mso-bidi-font-weight: bold">815) 788-8383 to reserve your spot.</span></strong>&nbsp\; Food and supplies will also be collected for Turning Point.<o:p></o:p></span></p>
LOCATION:Akasha Yoga Center\, located at 121 N. Main St. in Crystal Lake.
UID:e.138.487
SEQUENCE:3
DTSTAMP:20260424T215012Z
URL:https://business.carygrovechamber.com/events/details/natures-balance-acupuncture-hosts-free-lecture-06-20-2009-487
END:VEVENT

END:VCALENDAR
