BEGIN:VCALENDAR
VERSION:2.0
PRODID:-//ChamberMaster//Event Calendar 2.0//EN
METHOD:PUBLISH
X-PUBLISHED-TTL:P3D
REFRESH-INTERVAL:P3D
CALSCALE:GREGORIAN
BEGIN:VEVENT
DTSTART:20090923T180000Z
DTEND:20090923T210000Z
X-MICROSOFT-CDO-ALLDAYEVENT:FALSE
SUMMARY:Navigating the Cycles of Health Insurance - Understanding Medicare
DESCRIPTION:"Navigating the Cycles of Health Insurance" on Wednesday\, September 23 from 1 to 4 p.m.During tough financial times\, learn and understand the Medicare Program.An educational program to help you become aware of health care options\, how they work\, how to keep "out of pocket" expenses down.Medicare and supplemental insurance will be discussed\, explaining deductibles\, co-payments and benefit changes.Handouts will be available.
X-ALT-DESC;FMTTYPE=text/html:<div>&quot\;Navigating the Cycles of Health Insurance&quot\; on Wednesday\, September 23 from 1 to 4 p.m.</div><div>During tough financial times\, learn and understand the Medicare Program.</div><div>An educational program to help you become aware of health care options\, how they work\, how to keep &quot\;out of pocket&quot\; expenses down.</div><div>Medicare and supplemental insurance will be discussed\, explaining deductibles\, co-payments and benefit changes.</div><div>Handouts will be available.</div>
LOCATION:The Shah Center4100 W. Shamrock Lane (off Route 31)McHenry\, IL
UID:e.138.568
SEQUENCE:3
DTSTAMP:20260424T163905Z
URL:https://business.carygrovechamber.com/events/details/navigating-the-cycles-of-health-insurance-understanding-medicare-09-23-2009-568
END:VEVENT

END:VCALENDAR
