BEGIN:VCALENDAR
VERSION:2.0
PRODID:-//ChamberMaster//Event Calendar 2.0//EN
METHOD:PUBLISH
X-PUBLISHED-TTL:P3D
REFRESH-INTERVAL:P3D
CALSCALE:GREGORIAN
BEGIN:VEVENT
DTSTART:20071023T130000Z
DTEND:20071023T150000Z
X-MICROSOFT-CDO-ALLDAYEVENT:FALSE
SUMMARY:Nelson Paiz Studio Morning Mixer
DESCRIPTION:Nelson Paiz Studio Morning Mixer Join us for our first morning mixer!!
X-ALT-DESC;FMTTYPE=text/html:<div><font face="Times New Roman" size="4">Nelson Paiz Studio Morning Mixer</font></div><div>&nbsp\;</div><div>Join us for our first morning mixer!!</div>
LOCATION:60 Cary Street\, Cary (downtown Cary)
UID:e.138.137
SEQUENCE:3
DTSTAMP:20260425T233914Z
URL:https://business.carygrovechamber.com/events/details/nelson-paiz-studio-morning-mixer-10-23-2007-137
END:VEVENT

END:VCALENDAR
