BEGIN:VCALENDAR
VERSION:2.0
PRODID:-//ChamberMaster//Event Calendar 2.0//EN
METHOD:PUBLISH
X-PUBLISHED-TTL:P3D
REFRESH-INTERVAL:P3D
CALSCALE:GREGORIAN
BEGIN:VEVENT
DTSTART:20090108T173000Z
DTEND:20090108T200000Z
X-MICROSOFT-CDO-ALLDAYEVENT:FALSE
SUMMARY:Network Connection: Building Relationships
DESCRIPTION:Multi-Chamber Network Event Designed to Build Your Business Mark your calendar for the Cary Grove Chamber network luncheon scramble\, "The Network Connection: Building Relationships" scheduled for Thursday\, January 8 at D'Andrea Banquets & Conference Center\, 4419 Northwest Hwy\, Crystal Lake from 11:30 to 2:00 p.m. Register by November 21 and get the earlybird pricing of $30. The event will pull together professionals from throughout McHenry County for a day of power marketing that can lead to growth and referral. Only three professionals per industry will be accepted\, no more than two per company! This event is being promoted by nine area chambers. This early bird price is being offered to members of the Algonquin/LITH\, Cary Grove\, Crystal Lake\, Huntley\, McHenry Area\, Woodstock\, Wonder Lake\, Marengo/Union and Northern Kane Chambers.   The member price after November 21 is $35. Cost for non-members is $55.   For more information\, call the Chamber at (847) 639-2800.
X-ALT-DESC;FMTTYPE=text/html:<div style="margin: 0in 0in 0pt"><strong><font size="6"><font size="3">Multi-Chamber Network Event Designed to Build Your Business</font></font></strong></div><div style="margin: 0in 0in 0pt">&nbsp\;</div><div style="margin: 0in 0in 0pt\; line-height: 14.4pt"><span style="font-size: 11pt\; color: black">Mark your calendar for the Cary Grove Chamber network luncheon scramble\, &ldquo\;The Network Connection: Building Relationships&rdquo\; scheduled for Thursday\, January 8 at <strong>D&rsquo\;Andrea Banquets &amp\; Conference Center</strong>\, 4419 Northwest Hwy\, Crystal Lake from 11:30 to 2:00 p.m.&nbsp\;<strong>Register by November 21</strong> and get the earlybird pricing of $30.&nbsp\;The event will pull together professionals from throughout McHenry County for a day of power marketing that can lead to growth and referral. Only three professionals per industry will be accepted\, no more than two per company!&nbsp\;This event is being promoted by nine area chambers.&nbsp\;This early bird price is being offered to members of the Algonquin/LITH\, Cary Grove\, Crystal Lake\, Huntley\, McHenry Area\, Woodstock\, Wonder Lake\, Marengo/Union and Northern Kane Chambers.&nbsp\;&nbsp\; <strong>The member price after November 21 is $35.&nbsp\;Cost for non-members is $55.</strong>&nbsp\;&nbsp\; For more information\, call the Chamber at (847) 639-2800.</span></div>
LOCATION:D'Andrea Banquets & Conference Center4419 Northwest Hwy.Crystal Lake
UID:e.138.334
SEQUENCE:3
DTSTAMP:20260425T022630Z
URL:https://business.carygrovechamber.com/events/details/network-connection-building-relationships-01-08-2009-334
END:VEVENT

END:VCALENDAR
