BEGIN:VCALENDAR
VERSION:2.0
PRODID:-//ChamberMaster//Event Calendar 2.0//EN
METHOD:PUBLISH
X-PUBLISHED-TTL:P3D
REFRESH-INTERVAL:P3D
CALSCALE:GREGORIAN
BEGIN:VEVENT
DTSTART:20080402T213000Z
DTEND:20080403T000000Z
X-MICROSOFT-CDO-ALLDAYEVENT:FALSE
SUMMARY:Network Extravaganza
DESCRIPTION:Multi-Chamber Network ExtravaganzaJoin us for a multi-chamber networking event on Wednesday\, April 2 from 4:30 p.m. to 7:00 p.m. at the Sheraton Chicago Northwest\, 3400 E. Euclid in Arlington Heights.This is one of the largest gatherings of Chamber of Commerce members with 14 Chambers.  Pitch your business to hundreds of contacts!  Cost is $25 for members / $35 for non-members and includes appetizers with cash bar.  Register by March 26 by calling the Chamber at (847) 639-2800.  Our Chamber members qualify for the $25 fee.
X-ALT-DESC;FMTTYPE=text/html:<p class="MsoNormalCxSpFirst" style="word-break: normal\; text-align: left" align="left">&nbsp\;</p><h2 class="MsoNormalCxSpFirst" style="word-break: normal\; text-align: left" align="left"><span style="font-size: 11pt\; font-family: &quot\;Arial&quot\;\,&quot\;sans-serif&quot\;">Multi-Chamber Network Extravaganza</span></h2><p class="MsoNormalCxSpFirst" style="word-break: normal\; text-align: left" align="left"><span style="font-size: 11pt\; font-family: &quot\;Arial&quot\;\,&quot\;sans-serif&quot\;">Join us for a multi-chamber networking event on Wednesday\, April 2 from <st1:time w:st="on" minute="30" hour="16">4:30 p.m.</st1:time> to <st1:time w:st="on" minute="0" hour="19">7:00 p.m.</st1:time> at the Sheraton Chicago Northwest\, 3400 <st1:place w:st="on">E. Euclid</st1:place> in <st1:place w:st="on">Arlington Heights</st1:place>.<o:p></o:p></span></p><p class="MsoNormalCxSpMiddle" style="word-break: normal\; text-align: left" align="left"><span style="font-size: 11pt\; font-family: &quot\;Arial&quot\;\,&quot\;sans-serif&quot\;">This is one of the largest gatherings of Chamber of Commerce members with 14 Chambers.<span style="mso-spacerun: yes">&nbsp\; </span>Pitch your business to hundreds of contacts!<span style="mso-spacerun: yes">&nbsp\; </span>Cost is $25 for members / $35 for non-members and includes appetizers with cash bar.<span style="mso-spacerun: yes">&nbsp\; </span>Register by March 26 by calling the Chamber at (847) 639-2800.<span style="mso-spacerun: yes">&nbsp\; </span>Our Chamber members qualify for the $25 fee.<o:p></o:p></span></p>
LOCATION:Sheraton Chicago Northwest\, 3400 E. Euclid in Arlington Heights.
UID:e.138.212
SEQUENCE:3
DTSTAMP:20260425T152405Z
URL:https://business.carygrovechamber.com/events/details/network-extravaganza-04-02-2008-212
END:VEVENT

END:VCALENDAR
