BEGIN:VCALENDAR
VERSION:2.0
PRODID:-//ChamberMaster//Event Calendar 2.0//EN
METHOD:PUBLISH
X-PUBLISHED-TTL:P3D
REFRESH-INTERVAL:P3D
CALSCALE:GREGORIAN
BEGIN:VEVENT
DTSTART;VALUE=DATE:20110113
DTEND;VALUE=DATE:20110114
TRANSP:TRANSPARENT
X-MICROSOFT-CDO-ALLDAYEVENT:TRUE
SUMMARY:Network Scramble Luncheon
DESCRIPTION:The 5th Annual Cary Grove Chamber Network Scramble Luncheon on Thursday\, January 13\, 2011 at D'Andrea Banquets & Conference Center\, 4419 Northwest Hwy\, Crystal Lake from 11:30 to 2:00 p.m. This event pulls together professionals from throughout McHenry County for a day of power marketing that can lead to growth and referral. Only three professionals per industry will be accepted\, no more than two per company! This event is being promoted by 8 other area chambers. Save $5 if you register by December 15. Early bird price is being offered to members of Algonquin/LITH\, Cary Grove\, Crystal Lake\, Huntley\, Lake Zurich\, Marengo / Union\, McHenry Area\, Wonder Lake and Woodstock. Members pay $35 after December 15 and $55 for non-members. For more information\, call the Chamber at (847) 639-2800 or go to www.carygrovechamber.com for a registration form.
X-ALT-DESC;FMTTYPE=text/html:<div>\n	The 5th Annual Cary Grove Chamber Network Scramble Luncheon on Thursday\, January 13\, 2011&nbsp\;at D&#39\;Andrea Banquets &amp\; Conference Center\, 4419 Northwest Hwy\, Crystal Lake from 11:30 to 2:00 p.m. This event pulls together professionals from throughout McHenry County for a day of power marketing that can lead to growth and referral. Only three professionals per industry will be accepted\, no more than two per company! This event is being promoted by 8 other area chambers. <strong>Save $5 if you register by December 15</strong>. Early bird price is being offered to members of Algonquin/LITH\, Cary Grove\, Crystal Lake\, Huntley\, Lake Zurich\, Marengo / Union\, McHenry Area\,&nbsp\;Wonder Lake and Woodstock. Members pay $35 after December 15 and $55 for non-members. For more information\, call the Chamber at (847) 639-2800 or go to www.carygrovechamber.com for a registration form.</div>\n
LOCATION:D'Andrea Banquets & Conference Center\, 4419 Northwest Hwy\, Crystal Lake
UID:e.138.632
SEQUENCE:3
DTSTAMP:20260423T174638Z
URL:https://business.carygrovechamber.com/events/details/network-scramble-luncheon-01-13-2011-632
END:VEVENT

END:VCALENDAR
