BEGIN:VCALENDAR
VERSION:2.0
PRODID:-//ChamberMaster//Event Calendar 2.0//EN
METHOD:PUBLISH
X-PUBLISHED-TTL:P3D
REFRESH-INTERVAL:P3D
CALSCALE:GREGORIAN
BEGIN:VEVENT
DTSTART:20070522T131500Z
DTEND:20070522T143000Z
X-MICROSOFT-CDO-ALLDAYEVENT:FALSE
SUMMARY:New Member Breakfast ''Let's Get Acquainted!''
DESCRIPTION:New members of the Cary Grove Chamber are invited to attend a "Let's Get Acquainted" New Member Breakfast on Tuesday\, May 22 at 8:15 a.m. at the Cary Area Public Library\, located at 1606 Three Oaks Road  in Cary.   The event is sponsored by Dominick's Finer Foods in Fox River Grove.  In addition to enjoying a continental breakfast from Dominick's\, each new member in attendance will be asked to introduce themselves and give their 30-second commercial on their business or service.  Call the Chamber office today to reserve your seat at (847) 639-2800.  Seating is limited and all new members who have joined the Chamber since last August are encouraged to attend\, as well as new members who have never attended one.  The event is free thanks to Dominick's!
X-ALT-DESC;FMTTYPE=text/html:<p class="MsoNormal" style="MARGIN: 0in 0in 0pt"><font size="3"><font face="Times New Roman">New members of the Cary Grove Chamber are invited to attend a &ldquo\;Let&rsquo\;s Get Acquainted&rdquo\; New Member Breakfast on Tuesday\, May 22 at <st1:time hour="8" minute="15">8:15 a.m.</st1:time> at the <strong style="mso-bidi-font-weight: normal">Cary Area Public Library\, </strong>located at <st1:street><st1:address>1606 Three Oaks Road</st1:address></st1:street><strong style="mso-bidi-font-weight: normal"> </strong><span style="mso-spacerun: yes">&nbsp\;</span>in <st1:city><st1:place>Cary</st1:place></st1:city>.<span style="mso-spacerun: yes">&nbsp\;&nbsp\; </span>The event is sponsored by <strong style="mso-bidi-font-weight: normal">Dominick&rsquo\;s Finer Foods in Fox River Grove</strong>.<span style="mso-spacerun: yes">&nbsp\; </span>In addition to enjoying a continental breakfast from Dominick&rsquo\;s\, each new member in attendance will be asked to introduce themselves and give their 30-second commercial on their business or service.<span style="mso-spacerun: yes">&nbsp\; </span><strong style="mso-bidi-font-weight: normal">Call the Chamber office today to reserve your seat at (847) 639-2800. </strong><span style="mso-spacerun: yes">&nbsp\;</span>Seating is limited and all new members who have joined the Chamber since last August are encouraged to attend\, as well as new members who have never attended one.<span style="mso-spacerun: yes">&nbsp\; </span><strong style="mso-bidi-font-weight: normal">The event is free thanks to Dominick&rsquo\;s! <o:p></o:p></strong></font></font></p>
LOCATION:Cary Area Public Library\, 1606 Three Oaks Road\, Cary
UID:e.138.67
SEQUENCE:3
DTSTAMP:20260425T214751Z
URL:https://business.carygrovechamber.com/events/details/new-member-breakfast-let-s-get-acquainted-05-22-2007-67
END:VEVENT

END:VCALENDAR
