BEGIN:VCALENDAR
VERSION:2.0
PRODID:-//ChamberMaster//Event Calendar 2.0//EN
METHOD:PUBLISH
X-PUBLISHED-TTL:P3D
REFRESH-INTERVAL:P3D
CALSCALE:GREGORIAN
BEGIN:VEVENT
DTSTART:20080115T140000Z
DTEND:20080115T150000Z
X-MICROSOFT-CDO-ALLDAYEVENT:FALSE
SUMMARY:New Member Breakfast - Shop the Networks
DESCRIPTION:Shop the Networks and New Member Breakfast Free-Learn more about the Chamber and our networking groups
X-ALT-DESC;FMTTYPE=text/html:<div><span class="Title"><p>Shop the Networks and New Member Breakfast</p><p>&nbsp\;</p></span></div><p><span style="font-weight: bold">Free-Learn more about the Chamber and our networking groups</span>&nbsp\;</p><p>&nbsp\;</p>
LOCATION:Fox River Grove Village Hall305 Illinois Street
UID:e.138.186
SEQUENCE:3
DTSTAMP:20260425T205300Z
URL:https://business.carygrovechamber.com/events/details/new-member-breakfast-shop-the-networks-01-15-2008-186
END:VEVENT

END:VCALENDAR
