BEGIN:VCALENDAR
VERSION:2.0
PRODID:-//ChamberMaster//Event Calendar 2.0//EN
METHOD:PUBLISH
X-PUBLISHED-TTL:P3D
REFRESH-INTERVAL:P3D
CALSCALE:GREGORIAN
BEGIN:VEVENT
DTSTART:20080424T130000Z
DTEND:20080424T140000Z
X-MICROSOFT-CDO-ALLDAYEVENT:FALSE
SUMMARY:New Member Breakfast - Shop the Networks
DESCRIPTION:New Member Breakfast - Shop The Networks All Chamber members are invited to an Open House Breakfast.    Come and learn about our Chamber and Shop our Networking Groups.   Join us for a FREE continental breakfast! Breakfast treats sponsored by CostCo of Lake Zurich and coffee sponsored by Cary Coffee Station
X-ALT-DESC;FMTTYPE=text/html:<h2>New Member Breakfast - Shop The Networks</h2><div>&nbsp\;</div><div>All Chamber members are invited to an Open House Breakfast.&nbsp\;&nbsp\;&nbsp\; Come and learn about our Chamber and Shop our Networking Groups.&nbsp\;&nbsp\; Join us for a FREE continental breakfast!</div><div>&nbsp\;</div><div>Breakfast treats sponsored by CostCo of Lake Zurich and coffee sponsored by Cary Coffee Station</div><div>&nbsp\;</div><div>&nbsp\;</div>
LOCATION:Fox River Grove Village Hall\, 305 Illinois Street\, Fox River Grove
UID:e.138.218
SEQUENCE:3
DTSTAMP:20260425T153846Z
URL:https://business.carygrovechamber.com/events/details/new-member-breakfast-shop-the-networks-04-24-2008-218
END:VEVENT

END:VCALENDAR
