BEGIN:VCALENDAR
VERSION:2.0
PRODID:-//ChamberMaster//Event Calendar 2.0//EN
METHOD:PUBLISH
X-PUBLISHED-TTL:P3D
REFRESH-INTERVAL:P3D
CALSCALE:GREGORIAN
BEGIN:VEVENT
DTSTART;VALUE=DATE:20091231
DTEND;VALUE=DATE:20100101
TRANSP:TRANSPARENT
X-MICROSOFT-CDO-ALLDAYEVENT:TRUE
SUMMARY:New Year Eve's at Wool Street - Family Fun with Live Band
DESCRIPTION:Looking for a family event on New Years Eve?  Wool Street Grill & Sports Bar and the Band OCD have teamed up to provide a safe and family friendly New Years Eve Celebration.  Enjoy an organized kid's party for ages 6 and up including pizza\, drinks\, movies\, board games and more ($10). Live music from local band OCD. There will be a "Drive your Car Home Service" (rates determined by distance)\, a champagne toast at midnight and special rates and shuttle bus to the Crystal Lake Holiday Inn. What a great way to enjoy the celebration of the end of 2009 with your family\, friends and safety. Wool Street is located at 800 Feinberg Court in Cary and can be reached at (847) 462-9665.
X-ALT-DESC;FMTTYPE=text/html:<div><span style="color: black\; font-size: 11pt">Looking for a family event on New Years Eve?&nbsp\;</span></div><div>&nbsp\;</div><div><b><span style="color: black\; font-size: 11pt">Wool Street Grill &amp\; Sports Bar </span></b><span style="color: black\; font-size: 11pt">and the Band OCD have teamed up to provide a safe and family friendly New Years Eve Celebration. &nbsp\;Enjoy an organized kid's party for ages 6 and up including pizza\, drinks\, movies\, board games and more ($10).&nbsp\;Live music from local band OCD.&nbsp\;There will be a &ldquo\;Drive your Car Home Service&rdquo\; (rates determined by distance)\, a champagne toast at </span><span style="color: black\; font-size: 11pt">midnight</span><span style="color: black\; font-size: 11pt"> and special rates and shuttle bus to the Crystal Lake Holiday Inn. What a great way to enjoy the celebration of the end of 2009 with your family\, friends and safety.&nbsp\;</span><span style="color: black\; font-size: 11pt">Wool Street is located at </span><span style="color: black\; font-size: 11pt">800 Feinberg Court</span><span style="color: black\; font-size: 11pt"> in </span><span style="color: black\; font-size: 11pt">Cary</span><span style="color: black\; font-size: 11pt"> and can be reached at (847) 462-9665. </span></div>
LOCATION:Wool Street Grill & Sports Bar800 Feinberg Court in Cary
UID:e.138.693
SEQUENCE:3
DTSTAMP:20260424T130326Z
URL:https://business.carygrovechamber.com/events/details/new-year-eve-s-at-wool-street-family-fun-with-live-band-12-31-2009-693
END:VEVENT

END:VCALENDAR
