BEGIN:VCALENDAR
VERSION:2.0
PRODID:-//ChamberMaster//Event Calendar 2.0//EN
METHOD:PUBLISH
X-PUBLISHED-TTL:P3D
REFRESH-INTERVAL:P3D
CALSCALE:GREGORIAN
BEGIN:VEVENT
DTSTART;VALUE=DATE:20091231
DTEND;VALUE=DATE:20100101
TRANSP:TRANSPARENT
X-MICROSOFT-CDO-ALLDAYEVENT:TRUE
SUMMARY:New Year's Eve Party Featuring The Neverly Brothers
DESCRIPTION:Come out and support the Crystal Lake Chamber Foundation and Raue Center this New Years Eve as we ring in a year of prosperity!! The evening will start with the wit of Chicago comedian Larry Reeb\, followed by dancing to a band that will take you back in time\, The Neverly Brothers. They bridge the gap between 50s rockabilly and early 60s British invasion. Limited Quantity! The evening includes open bar\, hors d'oeuvres and a champagne toast at midnight.
X-ALT-DESC;FMTTYPE=text/html:<div>Come out and support the Crystal Lake Chamber Foundation and Raue Center this New Years Eve as we ring in a year of prosperity!! The evening will start with the wit of Chicago comedian Larry Reeb\, followed by dancing to a band that will take you back in time\, The Neverly Brothers. They bridge the gap between 50s rockabilly and early 60s British invasion. Limited Quantity! The evening includes open bar\, hors d&rsquo\;oeuvres and a champagne toast at midnight.</div>
LOCATION:Raue Center For The Arts 26 North Williams Street Crystal Lake\, IL 60014
UID:e.138.648
SEQUENCE:3
DTSTAMP:20260424T125316Z
URL:https://business.carygrovechamber.com/events/details/new-year-s-eve-party-featuring-the-neverly-brothers-12-31-2009-648
END:VEVENT

END:VCALENDAR
