BEGIN:VCALENDAR
VERSION:2.0
PRODID:-//ChamberMaster//Event Calendar 2.0//EN
METHOD:PUBLISH
X-PUBLISHED-TTL:P3D
REFRESH-INTERVAL:P3D
CALSCALE:GREGORIAN
BEGIN:VEVENT
DTSTART:20100131T180000Z
DTEND:20100131T220000Z
X-MICROSOFT-CDO-ALLDAYEVENT:FALSE
SUMMARY:Norge Ski Club
DESCRIPTION:Norge Ski Jumping International & Super Tour K70 competition\n\nUSA/Norway/Finland/Poland & Russia compete\n\nJoin Us in the Olympic Spirit 2010
X-ALT-DESC;FMTTYPE=text/html:Norge Ski Jumping International &amp\; Super Tour K70 competition\n<br>USA/Norway/Finland/Poland &amp\; Russia compete\n<br>Join Us in the Olympic Spirit 2010
LOCATION:Norge Ski Club
UID:e.138.702
SEQUENCE:3
DTSTAMP:20260424T112829Z
URL:https://business.carygrovechamber.com/events/details/norge-ski-club-01-31-2010-702
END:VEVENT

END:VCALENDAR
