BEGIN:VCALENDAR
VERSION:2.0
PRODID:-//ChamberMaster//Event Calendar 2.0//EN
METHOD:PUBLISH
X-PUBLISHED-TTL:P3D
REFRESH-INTERVAL:P3D
CALSCALE:GREGORIAN
BEGIN:VEVENT
DTSTART:20091212T020000Z
DTEND:20091212T043000Z
X-MICROSOFT-CDO-ALLDAYEVENT:FALSE
SUMMARY:Northwest Indiana Symphony Orchestra
DESCRIPTION:Get into the spirit of the season with our annual holiday pops concert! A festive combination of contemporary and classic holiday music?you?re sure to hear your favorites! Watch for a special guest?Santa!\n\nExclusive Sponsor: Home State Bank
X-ALT-DESC;FMTTYPE=text/html:Get into the spirit of the season with our annual holiday pops concert! A festive combination of contemporary and classic holiday music?you?re sure to hear your favorites! Watch for a special guest?Santa!\n\nExclusive Sponsor: Home State Bank
LOCATION:Raue Center For The Arts 26 North Williams Street Crystal Lake\, IL 60014
UID:e.138.642
SEQUENCE:3
DTSTAMP:20260424T124941Z
URL:https://business.carygrovechamber.com/events/details/northwest-indiana-symphony-orchestra-12-11-2009-642
END:VEVENT

END:VCALENDAR
