BEGIN:VCALENDAR
VERSION:2.0
PRODID:-//ChamberMaster//Event Calendar 2.0//EN
METHOD:PUBLISH
X-PUBLISHED-TTL:P3D
REFRESH-INTERVAL:P3D
CALSCALE:GREGORIAN
BEGIN:VEVENT
DTSTART;VALUE=DATE:20080405
DTEND;VALUE=DATE:20080406
TRANSP:TRANSPARENT
X-MICROSOFT-CDO-ALLDAYEVENT:TRUE
SUMMARY:Nothin' Up My Sleeve 6
DESCRIPTION:It?s a yearly hit for the whole family! Mystifying\, dazzling\, befuddling\, bamboozling. It?s Nothin? Up My Sleeve! Back by popular demand?some of the Midwest?s finest magicians and entertainers combine tricks\, sleight of hand\, amazing illusions\, juggling and ventriloquism.
X-ALT-DESC;FMTTYPE=text/html:It?s a yearly hit for the whole family! Mystifying\, dazzling\, befuddling\, bamboozling. It?s Nothin? Up My Sleeve! Back by popular demand?some of the Midwest?s finest magicians and entertainers combine tricks\, sleight of hand\, amazing illusions\, juggling and ventriloquism.
LOCATION:Raue Center For The Arts 26 N. Williams Street Crystal Lake\, IL 60014
UID:e.138.171
SEQUENCE:3
DTSTAMP:20260425T164859Z
URL:https://business.carygrovechamber.com/events/details/nothin-up-my-sleeve-6-04-05-2008-171
END:VEVENT

END:VCALENDAR
