BEGIN:VCALENDAR
VERSION:2.0
PRODID:-//ChamberMaster//Event Calendar 2.0//EN
METHOD:PUBLISH
X-PUBLISHED-TTL:P3D
REFRESH-INTERVAL:P3D
CALSCALE:GREGORIAN
BEGIN:VEVENT
DTSTART:20110513T130000Z
DTEND:20110513T220000Z
X-MICROSOFT-CDO-ALLDAYEVENT:FALSE
SUMMARY:Nurses Week Vendor Good Shepherd Hospital
DESCRIPTION:Advocate Good Shepherd Hospital will be hosting a vendor fair to the community on May 13\, 2011\, 8-5 pm.  Proceeds will be donated towards Nursing scholorships for our community members and staff-the Carol Frietag Scholarship and the Future Healthcare Professional Program.
X-ALT-DESC;FMTTYPE=text/html:Advocate Good Shepherd Hospital will be hosting a vendor fair to the community on May 13\, 2011\, 8-5 pm.  Proceeds will be donated towards Nursing scholorships for our community members and staff-the Carol Frietag Scholarship and the Future Healthcare Professional Program.  
LOCATION:Advocate Good Shepherd Hospital 450 W. Highway 22\, Barrington\, IL
UID:e.138.2551
SEQUENCE:3
DTSTAMP:20260423T121037Z
URL:https://business.carygrovechamber.com/events/details/nurses-week-vendor-good-shepherd-hospital-05-13-2011-2551
END:VEVENT

END:VCALENDAR
