BEGIN:VCALENDAR
VERSION:2.0
PRODID:-//ChamberMaster//Event Calendar 2.0//EN
METHOD:PUBLISH
X-PUBLISHED-TTL:P3D
REFRESH-INTERVAL:P3D
CALSCALE:GREGORIAN
BEGIN:VEVENT
DTSTART;VALUE=DATE:20091029
DTEND;VALUE=DATE:20091030
TRANSP:TRANSPARENT
X-MICROSOFT-CDO-ALLDAYEVENT:TRUE
SUMMARY:October Fest Fundraiser
DESCRIPTION:Family Service & Community Mental Health Center is having an October Fest Fundraiser on Thursday\, October 29\, 2009 from 5:30 to 8:00 p.m. at McHenry VFW\, located at 3002 W. Route 120 in McHenry.
X-ALT-DESC;FMTTYPE=text/html:Family Service & Community Mental Health Center is having an October Fest Fundraiser on Thursday\, October 29\, 2009 from 5:30 to 8:00 p.m. at McHenry VFW\, located at 3002 W. Route 120 in McHenry. 
LOCATION:McHenry VFW3002 W. Route 120 in McHenry
UID:e.138.527
SEQUENCE:3
DTSTAMP:20260424T152034Z
URL:https://business.carygrovechamber.com/events/details/october-fest-fundraiser-10-29-2009-527
END:VEVENT

END:VCALENDAR
