BEGIN:VCALENDAR
VERSION:2.0
PRODID:-//ChamberMaster//Event Calendar 2.0//EN
METHOD:PUBLISH
X-PUBLISHED-TTL:P3D
REFRESH-INTERVAL:P3D
CALSCALE:GREGORIAN
BEGIN:VEVENT
DTSTART:20090310T233000Z
DTEND:20090311T010000Z
X-MICROSOFT-CDO-ALLDAYEVENT:FALSE
SUMMARY:Off to College
DESCRIPTION:Off To College\nTuesday\, March 10\, 2009\n  6:30-8 p.m.	\nPrairie Room\nClass Code:  3G39\nGoing to college is an exciting time in your kid?s life and is filled with new opportunities and routines!  Help your child prepare for this next step by joining Dr. Philip Favia and a registered dietician as they deliver information that will help make this transition as safe and healthy as possible.  Enjoy a light dinner with your son or daughter\, enter our raffle for an Itunes gift card\, and arm yourself with valuable information.
X-ALT-DESC;FMTTYPE=text/html:Off To College\nTuesday\, March 10\, 2009\n  6:30-8 p.m.	\nPrairie Room\nClass Code:  3G39\nGoing to college is an exciting time in your kid?s life and is filled with new opportunities and routines!  Help your child prepare for this next step by joining Dr. Philip Favia and a registered dietician as they deliver information that will help make this transition as safe and healthy as possible.  Enjoy a light dinner with your son or daughter\, enter our raffle for an Itunes gift card\, and arm yourself with valuable information.\n\n
LOCATION:Advocate Good Shepherd Hospital 450 W. Highway 22 Barrington\, IL 60010
UID:e.138.367
SEQUENCE:3
DTSTAMP:20260424T231355Z
URL:https://business.carygrovechamber.com/events/details/off-to-college-03-10-2009-367
END:VEVENT

END:VCALENDAR
