BEGIN:VCALENDAR
VERSION:2.0
PRODID:-//ChamberMaster//Event Calendar 2.0//EN
METHOD:PUBLISH
X-PUBLISHED-TTL:P3D
REFRESH-INTERVAL:P3D
CALSCALE:GREGORIAN
BEGIN:VEVENT
DTSTART:20080617T233000Z
DTEND:20080618T010000Z
X-MICROSOFT-CDO-ALLDAYEVENT:FALSE
SUMMARY:Off to College
DESCRIPTION:Look Out College! Going to college is an exciting time in your kid's life and is filled with new opportunities and routines!  Help your child prepare for this next step by joining Dr. Phillip Favia and a registered dietician as they deliver information that will help make this transition as safe and healthy as possible.  Enjoy a light dinner with your son or daughter\, enter our raffle for an IPOD shuffle\, and arm yourself with valuable information.
X-ALT-DESC;FMTTYPE=text/html:<div>Look Out College! Going to college is an exciting time in your kid&rsquo\;s life and is filled with new opportunities and routines!&nbsp\; Help your child prepare for this next step by joining Dr. Phillip Favia and a registered dietician as they deliver information that will help make this transition as safe and healthy as possible.&nbsp\; Enjoy a light dinner with your son or daughter\, enter our raffle for an IPOD shuffle\, and arm yourself with valuable information.</div>
LOCATION:Good Shepherd Hospital Prairie Room 450 W. Highway 22 Barrington\, IL 60010
UID:e.138.229
SEQUENCE:3
DTSTAMP:20260425T121744Z
URL:https://business.carygrovechamber.com/events/details/off-to-college-06-17-2008-229
END:VEVENT

END:VCALENDAR
