BEGIN:VCALENDAR
VERSION:2.0
PRODID:-//ChamberMaster//Event Calendar 2.0//EN
METHOD:PUBLISH
X-PUBLISHED-TTL:P3D
REFRESH-INTERVAL:P3D
CALSCALE:GREGORIAN
BEGIN:VEVENT
DTSTART:20090203T230000Z
DTEND:20090204T010000Z
X-MICROSOFT-CDO-ALLDAYEVENT:FALSE
SUMMARY:On Angels' Wing Multi-Chamber Mixer
DESCRIPTION:In celebration of On Angels' Wings (OAW) first anniversary\, they are hosting a multi-chamber mixer\, "Resale to the Rescue" on Tuesday\, February 3 from 5 to 7 p.m. at their thrift store in Crystal Lake\, located at 5186 Northwest Hwy.\, behind Exceed Flooring. Come out and mingle with other chamber members and enjoy great appetizers\, wine and prizes! OAW rescues abandoned domesticated animals and provides a safe haven while they are rehabilitated and retrained to lead full and productive lives. The thrift store supports OAW's rescue operations.
X-ALT-DESC;FMTTYPE=text/html:<div>In celebration of On Angels&rsquo\; Wings (OAW) first anniversary\, they are hosting a multi-chamber mixer\, &quot\;Resale to the Rescue&quot\; on Tuesday\, February 3 from 5 to 7 p.m. at their thrift store in Crystal Lake\, located at 5186 Northwest Hwy.\, behind Exceed Flooring. Come out and mingle with other chamber members and enjoy great appetizers\, wine and prizes! OAW rescues abandoned domesticated animals and provides a safe haven while they are rehabilitated and retrained to lead full and productive lives. The thrift store supports OAW&rsquo\;s rescue operations.</div>
LOCATION:5186 Northwest Hwy.Crystal Lake\, IL
UID:e.138.398
SEQUENCE:3
DTSTAMP:20260425T022546Z
URL:https://business.carygrovechamber.com/events/details/on-angels-wing-multi-chamber-mixer-02-03-2009-398
END:VEVENT

END:VCALENDAR
