BEGIN:VCALENDAR
VERSION:2.0
PRODID:-//ChamberMaster//Event Calendar 2.0//EN
METHOD:PUBLISH
X-PUBLISHED-TTL:P3D
REFRESH-INTERVAL:P3D
CALSCALE:GREGORIAN
BEGIN:VEVENT
DTSTART;VALUE=DATE:20080308
DTEND;VALUE=DATE:20080309
TRANSP:TRANSPARENT
X-MICROSOFT-CDO-ALLDAYEVENT:TRUE
SUMMARY:One Night of Queen
DESCRIPTION:One Night of Queen delivers an explosive evening of entertainment. The show gives you all of the Queen classics from Killer Queen to Bohemian Rhapsody. Truly an unforgettable night for all Queen fans! The electrifying music and light show is a crowd favorite. The group just recorded a new live CD at Edinburgh Playhouse\, where more than 5\,000 fans over two nights were rocked by the show.
X-ALT-DESC;FMTTYPE=text/html:One Night of Queen delivers an explosive evening of entertainment. The show gives you all of the Queen classics from Killer Queen to Bohemian Rhapsody. Truly an unforgettable night for all Queen fans! The electrifying music and light show is a crowd favorite. The group just recorded a new live CD at Edinburgh Playhouse\, where more than 5\,000 fans over two nights were rocked by the show.
LOCATION:Raue Center For The Arts 26 N. Willams Street Crystal Lake\, IL 60014
UID:e.138.167
SEQUENCE:3
DTSTAMP:20260425T181132Z
URL:https://business.carygrovechamber.com/events/details/one-night-of-queen-03-08-2008-167
END:VEVENT

END:VCALENDAR
