BEGIN:VCALENDAR
VERSION:2.0
PRODID:-//ChamberMaster//Event Calendar 2.0//EN
METHOD:PUBLISH
X-PUBLISHED-TTL:P3D
REFRESH-INTERVAL:P3D
CALSCALE:GREGORIAN
BEGIN:VEVENT
DTSTART;VALUE=DATE:20090805
DTEND;VALUE=DATE:20090806
TRANSP:TRANSPARENT
X-MICROSOFT-CDO-ALLDAYEVENT:TRUE
SUMMARY:Open House - Alexander Leigh Center for Autism
DESCRIPTION:The Alexander Leigh Center for Autism will be hosting an Open House on Wednesday\, August 5th from 4 - 6 p.m.   If you would like more information\, please call (847) 458-6802.
X-ALT-DESC;FMTTYPE=text/html:<div><font size="4">The Alexander Leigh Center for Autism will be hosting an Open House on Wednesday\, August 5th from 4&nbsp\;- 6 p.m.&nbsp\; </font></div><div>&nbsp\;</div><div><font size="4">If you would like&nbsp\;more information\, please call (847) 458-6802.</font></div>
LOCATION:Alexander Leigh Center for Autism9109 Trinity DriveLake in the Hills\, IL
UID:e.138.524
SEQUENCE:3
DTSTAMP:20260424T180218Z
URL:https://business.carygrovechamber.com/events/details/open-house-alexander-leigh-center-for-autism-08-05-2009-524
END:VEVENT

END:VCALENDAR
