BEGIN:VCALENDAR
VERSION:2.0
PRODID:-//ChamberMaster//Event Calendar 2.0//EN
METHOD:PUBLISH
X-PUBLISHED-TTL:P3D
REFRESH-INTERVAL:P3D
CALSCALE:GREGORIAN
BEGIN:VEVENT
DTSTART;VALUE=DATE:20090624
DTEND;VALUE=DATE:20090625
TRANSP:TRANSPARENT
X-MICROSOFT-CDO-ALLDAYEVENT:TRUE
SUMMARY:Open House at Fox Point and Fox Point Manor
DESCRIPTION:Fox Point and Fox Point Manor\, formerly McHenry Retirement Community is having an Open House on Wednesday\, June 24 from 2 to 6 p.m.  Come visit this senior living community and learn about their innovative approach to senior care.  Enjoy refreshments and food.  To RSVP\, call (815) 385-9840 by June 22.  They are located at 3300 Charles J. Miller Road in McHenry.
X-ALT-DESC;FMTTYPE=text/html:Fox Point and Fox Point Manor\, formerly McHenry Retirement Community is having an Open House on Wednesday\, June 24 from 2 to 6 p.m.  Come visit this senior living community and learn about their innovative approach to senior care.  Enjoy refreshments and food.  To RSVP\, call (815) 385-9840 by June 22.  They are located at 3300 Charles J. Miller Road in McHenry.  \n\n
LOCATION:Fox Point and Fox Point Manor3300 Charles J. Miller Road in McHenry
UID:e.138.495
SEQUENCE:3
DTSTAMP:20260424T203232Z
URL:https://business.carygrovechamber.com/events/details/open-house-at-fox-point-and-fox-point-manor-06-24-2009-495
END:VEVENT

END:VCALENDAR
