BEGIN:VCALENDAR
VERSION:2.0
PRODID:-//ChamberMaster//Event Calendar 2.0//EN
METHOD:PUBLISH
X-PUBLISHED-TTL:P3D
REFRESH-INTERVAL:P3D
CALSCALE:GREGORIAN
BEGIN:VEVENT
DTSTART;VALUE=DATE:20100225
DTEND;VALUE=DATE:20100226
TRANSP:TRANSPARENT
X-MICROSOFT-CDO-ALLDAYEVENT:TRUE
SUMMARY:Open House at Fox Point Independent & Assisted Living
DESCRIPTION:Fox Point Independent & Assisted Living / Fox Point Manor is having an Open House this Thursday\, February 25 from 4 to 7 p.m. at their facility\, 3300 Charles J. Miller Road in McHenry.  Check out the apartments\, common areas and talk with residents.  Enjoy healthy and whole cuisine\, smoothies\, music and more.  Fox Point is a senior living community\, offering independent living\, assisted living and alzheimer's/dementia care. To reach them\, call (815) 385-9840 or visit www.crlcares.com.
X-ALT-DESC;FMTTYPE=text/html:<div><p class="MsoNormal" style="line-height: 14.4pt\; margin: 0in 0in 0pt"><b style="mso-bidi-font-weight: normal"><span style="font-family: Arial\; color: black\; font-size: 11pt\; mso-bidi-font-size: 10.0pt\; mso-font-kerning: 1.0pt">Fox Point Independent &amp\; Assisted Living / Fox Point Manor</span></b><span style="font-family: Arial\; color: black\; font-size: 11pt\; mso-bidi-font-size: 10.0pt\; mso-font-kerning: 1.0pt"> is having an Open House this Thursday\, February 25 from </span><st1:time minute="0" hour="16"><span style="font-family: Arial\; color: black\; font-size: 11pt\; mso-bidi-font-size: 10.0pt\; mso-font-kerning: 1.0pt">4</span></st1:time><span style="font-family: Arial\; color: black\; font-size: 11pt\; mso-bidi-font-size: 10.0pt\; mso-font-kerning: 1.0pt"> to </span><st1:time minute="0" hour="19"><span style="font-family: Arial\; color: black\; font-size: 11pt\; mso-bidi-font-size: 10.0pt\; mso-font-kerning: 1.0pt">7 p.m.</span></st1:time><span style="font-family: Arial\; color: black\; font-size: 11pt\; mso-bidi-font-size: 10.0pt\; mso-font-kerning: 1.0pt"> at their facility\, </span><st1:street><st1:address><span style="font-family: Arial\; color: black\; font-size: 11pt\; mso-bidi-font-size: 10.0pt\; mso-font-kerning: 1.0pt">3300 Charles J. Miller Road</span></st1:address></st1:street><span style="font-family: Arial\; color: black\; font-size: 11pt\; mso-bidi-font-size: 10.0pt\; mso-font-kerning: 1.0pt"> in McHenry.<span style="mso-spacerun: yes">&nbsp\; </span>Check out the apartments\, common areas and talk with residents.<span style="mso-spacerun: yes">&nbsp\; </span>Enjoy healthy and whole cuisine\, smoothies\, music and more.<span style="mso-spacerun: yes">&nbsp\; </span>Fox Point is a senior living community\, offering independent living\, assisted living and alzheimer's/dementia care. To reach them\, call (815) 385-9840 or visit <a href="http://www.crlcares.com/">www.crlcares.com</a>.<o:p></o:p></span></p></div>
LOCATION:Fox Point Independent & Assisted Living / Fox Point Manor3300 Charles J. Miller Road in McHenry
UID:e.138.753
SEQUENCE:3
DTSTAMP:20260424T101832Z
URL:https://business.carygrovechamber.com/events/details/open-house-at-fox-point-independent-assisted-living-02-25-2010-753
END:VEVENT

END:VCALENDAR
