BEGIN:VCALENDAR
VERSION:2.0
PRODID:-//ChamberMaster//Event Calendar 2.0//EN
METHOD:PUBLISH
X-PUBLISHED-TTL:P3D
REFRESH-INTERVAL:P3D
CALSCALE:GREGORIAN
BEGIN:VEVENT
DTSTART;VALUE=DATE:20090729
DTEND;VALUE=DATE:20090730
TRANSP:TRANSPARENT
X-MICROSOFT-CDO-ALLDAYEVENT:TRUE
SUMMARY:Open House at KinderCare Learning Center
DESCRIPTION:KinderCare is having an Open House on Wednesday July 29 from 4:30 to 6:30 p.m. to highlight the fall programs for children ages 6 weeks to 12 years.  Free registration will be given to all families that enroll that evening.  KinderCare knows that making the decision on a childcare provider is about finding the right people to care for and teach your child.  Their staff is dedicated to nurturing and teaching your child each day for many years to come.  Come join the KinderCare family!  You can contact Senior Center Director Heather Strauts or Assistant Director Jessica Zieba at (847) 639-8899 or by email at 301347@klcorp.com.
X-ALT-DESC;FMTTYPE=text/html:KinderCare is having an Open House on Wednesday July 29 from 4:30 to 6:30 p.m. to highlight the fall programs for children ages 6 weeks to 12 years.  Free registration will be given to all families that enroll that evening.  KinderCare knows that making the decision on a childcare provider is about finding the right people to care for and teach your child.  Their staff is dedicated to nurturing and teaching your child each day for many years to come.  Come join the KinderCare family!  You can contact Senior Center Director Heather Strauts or Assistant Director Jessica Zieba at (847) 639-8899 or by email at 301347@klcorp.com.\n
LOCATION:KinderCare324 Crystal Street (Route 14)Cary\, IL
UID:e.138.522
SEQUENCE:3
DTSTAMP:20260424T191835Z
URL:https://business.carygrovechamber.com/events/details/open-house-at-kindercare-learning-center-07-29-2009-522
END:VEVENT

END:VCALENDAR
