BEGIN:VCALENDAR
VERSION:2.0
PRODID:-//ChamberMaster//Event Calendar 2.0//EN
METHOD:PUBLISH
X-PUBLISHED-TTL:P3D
REFRESH-INTERVAL:P3D
CALSCALE:GREGORIAN
BEGIN:VEVENT
DTSTART;VALUE=DATE:20100130
DTEND;VALUE=DATE:20100131
TRANSP:TRANSPARENT
X-MICROSOFT-CDO-ALLDAYEVENT:TRUE
SUMMARY:Open house for Cary Park District Preschool
DESCRIPTION:The Cary Park District is hosting an Open House on Saturday\, January 30 from 9 to 10 am. for those interested in registering their child for preschool for the 2010/2011 school year. The Preschool is located within LionsPark at 1180 Silver Lake Road in Cary. Come meet the teachers\, receive program information and tour the classrooms. Programs offered include morning or afternoon classes for 3 and 4 year olds plus Junior 4 and Junior 5 year old programs. For more information on the Cary Park District Preschool program\, visit www.carypark.com or contact the Preschool Director at (847) 639-7448
X-ALT-DESC;FMTTYPE=text/html:<div><span style="color: black\; font-size: 11pt"><strong>The Cary Park District</strong></span><span style="color: black\; font-size: 11pt"> is hosting an Open House on Saturday\, January 30 from </span><span style="color: black\; font-size: 11pt">9</span><span style="color: black\; font-size: 11pt"> to </span><span style="color: black\; font-size: 11pt">10 am</span><span style="color: black\; font-size: 11pt">. for those interested in registering their child for </span><span style="color: black\; font-size: 11pt">preschool</span><span style="color: black\; font-size: 11pt"> for the 2010/2011 school year.&nbsp\;The Preschool is located within </span><span style="color: black\; font-size: 11pt">Lions</span><span style="color: black\; font-size: 11pt">Park</span><span style="color: black\; font-size: 11pt"> at </span><span style="color: black\; font-size: 11pt">1180 Silver Lake Road</span><span style="color: black\; font-size: 11pt"> in </span><span style="color: black\; font-size: 11pt">Cary</span><span style="color: black\; font-size: 11pt">. Come meet the teachers\, receive program information and tour the classrooms. Programs offered include morning or afternoon classes for 3 and 4 year olds plus Junior 4 and Junior 5 year old programs.&nbsp\;For more information on the Cary Park District Preschool program\, visit <a href="http://www.carypark.com/"><span style="color: black">www.carypark.com</span></a> or contact the Preschool Director at (847) 639-7448</span></div>
LOCATION:The Cary Park District Preschool is located within Lions Park at 1180 Silver Lake Road in Cary.
UID:e.138.724
SEQUENCE:3
DTSTAMP:20260424T113412Z
URL:https://business.carygrovechamber.com/events/details/open-house-for-cary-park-district-preschool-01-30-2010-724
END:VEVENT

END:VCALENDAR
