BEGIN:VCALENDAR
VERSION:2.0
PRODID:-//ChamberMaster//Event Calendar 2.0//EN
METHOD:PUBLISH
X-PUBLISHED-TTL:P3D
REFRESH-INTERVAL:P3D
CALSCALE:GREGORIAN
BEGIN:VEVENT
DTSTART;VALUE=DATE:20090813
DTEND;VALUE=DATE:20090815
TRANSP:TRANSPARENT
X-MICROSOFT-CDO-ALLDAYEVENT:TRUE
SUMMARY:Open House Silpada Jewelry
DESCRIPTION:Come to a Silpada Open House and check out the NEWEST collection of fabulous fine sterling silver jewelry! Elizabeth Martini of Silpada is hosting this event. Enjoy this relaxed party with no formal presentations\, just fun with friends! In addition to the newest Silpada pieces\, check out the over 50 pieces of retired jewelry\, marked down 30% to 60%! Stop by on Thursday\, August 13 from 7:00 to 9:00 p.m.\, or on Friday\, August 14 from 10:00 a.m. to noon. For more information\, call (815) 482-6692 or visit www.mysilpada.com/elizabeth.martini.
X-ALT-DESC;FMTTYPE=text/html:<div>Come to a Silpada Open House and check out the NEWEST collection of fabulous fine sterling silver jewelry! Elizabeth Martini of Silpada is hosting this event. Enjoy this relaxed party with no formal presentations\, just fun with friends! In addition to the newest Silpada pieces\, check out the over 50 pieces of retired jewelry\, marked down 30% to 60%! Stop by on Thursday\, August 13 from 7:00 to 9:00 p.m.\, or on Friday\, August 14 from 10:00 a.m. to noon. For more information\, call (815) 482-6692 or visit www.mysilpada.com/elizabeth.martini.</div>
LOCATION:Crystal Lake
UID:e.138.537
SEQUENCE:3
DTSTAMP:20260424T180047Z
URL:https://business.carygrovechamber.com/events/details/open-house-silpada-jewelry-08-13-2009-537
END:VEVENT

END:VCALENDAR
