BEGIN:VCALENDAR
VERSION:2.0
PRODID:-//ChamberMaster//Event Calendar 2.0//EN
METHOD:PUBLISH
X-PUBLISHED-TTL:P3D
REFRESH-INTERVAL:P3D
CALSCALE:GREGORIAN
BEGIN:VEVENT
DTSTART;VALUE=DATE:20090730
DTEND;VALUE=DATE:20090731
TRANSP:TRANSPARENT
X-MICROSOFT-CDO-ALLDAYEVENT:TRUE
SUMMARY:Pain Management Seminar
DESCRIPTION:Join Janine Jozwiak\, M.S.\, of Nature's Balance Acupuncture for a free seminar on Pain Management on Thursday\, July 30 from 7:00 to 8:30 p.m. at the Bull Valley Training Center\, 820 Terra Cotta Ave.\, #238 in Crystal Lake.  Seating is limited\, call (815) 788-8383 to RSVP by July 28.
X-ALT-DESC;FMTTYPE=text/html:<div>Join Janine Jozwiak\, M.S.\,&nbsp\;of Nature's Balance Acupuncture for a free seminar on Pain Management on Thursday\, July 30 from 7:00 to 8:30 p.m. at the Bull Valley Training Center\, 820 Terra Cotta Ave.\, #238 in Crystal Lake.&nbsp\; Seating is limited\, call (815) 788-8383 to RSVP by July 28.</div>
LOCATION:Bull Valley Training Center820 Terra Cotta Ave.\, #238 in Crystal Lake.
UID:e.138.519
SEQUENCE:3
DTSTAMP:20260424T192518Z
URL:https://business.carygrovechamber.com/events/details/pain-management-seminar-07-30-2009-519
END:VEVENT

END:VCALENDAR
