BEGIN:VCALENDAR
VERSION:2.0
PRODID:-//ChamberMaster//Event Calendar 2.0//EN
METHOD:PUBLISH
X-PUBLISHED-TTL:P3D
REFRESH-INTERVAL:P3D
CALSCALE:GREGORIAN
BEGIN:VEVENT
DTSTART:20190729T173000Z
DTEND:20190729T200000Z
X-MICROSOFT-CDO-ALLDAYEVENT:FALSE
SUMMARY:Parent and Caregiver CPR Training
DESCRIPTION:At Dolphin Swim Club's parent and caregiver Red Cross CPR class you will learn how to prevent\, recognize\, and respond to cardiac and breathing emergencies. You?ll be trained to perform adult and pediatric CPR\, first aid\, and how to use an AED. These skills can save the life of someone you love in a water or other emergency. Registration is required. Cost is $50 per participant. Please sign up on our online event calendar or call us at (847)854-1300\n\n\n\nThis class will be held monthly\, look for different days and times each month to accommodate your schedule!
X-ALT-DESC;FMTTYPE=text/html:<span style="color:rgb(29\, 33\, 41)\; font-family:helvetica\,arial\,sans-serif\; font-size:14px">At Dolphin Swim Club's parent and caregiver Red Cross CPR class you will learn how to prevent\, recognize\, and respond to cardiac and breathing emergencies. You?ll be trained to perform adult and pediatric CPR\, first aid\, and how to use an AED. These skills can save the life of someone you love in a water or other emergency. Registration is required. Cost is $50 per participant. Please sign up on our online event calendar or call us at (847)854-1300</span><br>\n<br>\n<span style="color:rgb(29\, 33\, 41)\; font-family:helvetica\,arial\,sans-serif\; font-size:14px">This class will be held monthly\, look for different days and times each month to accommodate your schedule! </span>
LOCATION:Dolphin Swim Club 825 Munshaw Lane Unit A Crystal Lake\, IL 60014
UID:e.138.10100
SEQUENCE:3
DTSTAMP:20260419T182357Z
URL:https://business.carygrovechamber.com/events/details/parent-and-caregiver-cpr-training-10100
END:VEVENT

END:VCALENDAR
