BEGIN:VCALENDAR
VERSION:2.0
PRODID:-//ChamberMaster//Event Calendar 2.0//EN
METHOD:PUBLISH
X-PUBLISHED-TTL:P3D
REFRESH-INTERVAL:P3D
CALSCALE:GREGORIAN
BEGIN:VEVENT
DTSTART;VALUE=DATE:20090720
DTEND;VALUE=DATE:20090721
TRANSP:TRANSPARENT
X-MICROSOFT-CDO-ALLDAYEVENT:TRUE
SUMMARY:Pioneer Center for Human Services Golf Outing
DESCRIPTION:Pioneer Center for Human Services Annual Golf Outing will be held Monday\, July 20 at Pinecrest Golf Club. Registration at 8:30 a.m. and Golf at 9:30 a.m. Cost is $125 or $500 for foursome and includes golf\, cart\, lunch\, snack buffet and awards. Former Bears and WGN radio personality\, Glen Kozlowski is coming. To reserve your spot\, call Barb Swanson at (815) 759-7144 or e-mail bswanson@pioneercenter.org. Visit www.pioneercenter.org.
X-ALT-DESC;FMTTYPE=text/html:<div>Pioneer Center for Human Services Annual Golf Outing will be held Monday\, July 20 at Pinecrest Golf Club. Registration at 8:30 a.m. and Golf at 9:30 a.m. Cost is $125 or $500 for foursome and includes golf\, cart\, lunch\, snack buffet and awards. Former Bears and WGN radio personality\, Glen Kozlowski is coming. To reserve your spot\, call Barb Swanson at (815) 759-7144 or e-mail bswanson@pioneercenter.org. Visit www.pioneercenter.org.</div>
LOCATION:Pinecrest Golf ClubHuntley\, IL
UID:e.138.497
SEQUENCE:3
DTSTAMP:20260424T192631Z
URL:https://business.carygrovechamber.com/events/details/pioneer-center-for-human-services-golf-outing-07-20-2009-497
END:VEVENT

END:VCALENDAR
