BEGIN:VCALENDAR
VERSION:2.0
PRODID:-//ChamberMaster//Event Calendar 2.0//EN
METHOD:PUBLISH
X-PUBLISHED-TTL:P3D
REFRESH-INTERVAL:P3D
CALSCALE:GREGORIAN
BEGIN:VEVENT
DTSTART:20090421T220000Z
DTEND:20090422T000000Z
X-MICROSOFT-CDO-ALLDAYEVENT:FALSE
SUMMARY:Pioneer Center JAZZ for PADS
DESCRIPTION:Tuesday\, April 21Pioneer Center JAZZ for PADSMulti-Chamber MixerLakeside Legacy Arts Park (Dole Mansion)401 Country Club Rd.\, Crystal Lake5-7 p.m. The 4th Annual JAZZ FOR PADS multi-chamber mixer hosted by Pioneer Center for Human Services is scheduled for Tuesday April 21 at Lakeside Legacy Arts Park (Dole Mansion)\, 401 Country Club Road in Crystal Lake from 5 to 7 p.m.   McHenry County PADS (Public Action to Deliver Shelter) has been providing services to the homeless people of McHenry County for over 21 years. This mixer is open to all Crystal Lake\, Woodstock\, Algonquin/Lake in the Hills\, Cary Grove\, Marengo-Union\, Richmond-Spring Grove and Wonder Lake Chamber members. Other guests and friends of PADS are welcome. Come out and enjoy good food\, music\, beverages\, and plenty of opportunities to network while learning and helping out the homeless people of McHenry County. What can you bring to the mixer? They are asking for a donation of camping gear\, such as back packs\, pots\, sleeping bags\, coolers\, sunscreen\, etc. and non-perishable food or cash contributions are always welcome. Stop by and help make a difference. Hope to see you there! For more information\, visit www.mchenrycountypads.com and watch the informative videos.
X-ALT-DESC;FMTTYPE=text/html:<div style="margin: 0in 0in 0pt"><strong><font size="4">Tuesday\, April 21</font></strong></div><div style="margin: 0in 0in 0pt"><strong><font size="4">Pioneer Center JAZZ for PADS</font></strong></div><div style="margin: 0in 0in 0pt"><strong><font size="4">Multi-Chamber Mixer</font></strong></div><div style="margin: 0in 0in 0pt"><font size="4">Lakeside Legacy Arts Park (Dole Mansion)</font></div><div style="margin: 0in 0in 0pt"><span style="color: black"><font size="4">401 Country Club Rd.\, Crystal Lake</font></span></div><div style="margin: 0in 0in 0pt"><font size="4">5-7 p.m.</font></div><div style="margin: 0in 0in 0pt">&nbsp\;</div><div style="margin: 0in 0in 0pt"><font size="4"><div style="margin: 0in 0in 0pt\; line-height: 14.4pt"><span style="font-size: 11pt\; color: black">The 4th Annual JAZZ FOR PADS multi-chamber mixer hosted by <strong>Pioneer</strong><strong> Center</strong> for Human Services is scheduled for Tuesday April 21 at Lakeside Legacy Arts Park (Dole Mansion)\, 401 Country Club Road in Crystal Lake from 5 to 7 p.m.&nbsp\;&nbsp\; </span><span style="font-size: 11pt\; color: black">McHenry County PADS (Public Action to Deliver Shelter) has been providing services to the homeless people of McHenry County for over 21 years.&nbsp\;This mixer is open to all Crystal Lake\, Woodstock\, Algonquin/Lake in the Hills\, Cary Grove\, Marengo-Union\, Richmond-Spring Grove and Wonder Lake Chamber members.&nbsp\;Other guests and friends of PADS are welcome.&nbsp\;Come out and enjoy good food\, music\, beverages\, and plenty of opportunities to network while learning and helping out the homeless people of McHenry County.&nbsp\;What can you bring to the mixer? They are asking for a donation of camping gear\, such as back packs\, pots\, sleeping bags\, coolers\, sunscreen\, etc. and non-perishable food or cash contributions are always welcome.&nbsp\;</span><span style="font-size: 11pt\; color: black">Stop by and help make a difference.&nbsp\;Hope to see you there! </span><span style="font-size: 11pt\; color: black">For more information\, visit <a href="http://www.mchenrycountypads.com/"><span style="color: black">www.mchenrycountypads.com</span></a> and watch the informative videos.</span></div></font></div><div style="margin: 0in 0in 0pt"><font size="4">&nbsp\;</font></div>
LOCATION:Lakeside Legacy Arts Park (Dole Mansion)401 Country Club Rd.\, Crystal Lake
UID:e.138.428
SEQUENCE:3
DTSTAMP:20260424T214823Z
URL:https://business.carygrovechamber.com/events/details/pioneer-center-jazz-for-pads-04-21-2009-428
END:VEVENT

END:VCALENDAR
