BEGIN:VCALENDAR
VERSION:2.0
PRODID:-//ChamberMaster//Event Calendar 2.0//EN
METHOD:PUBLISH
X-PUBLISHED-TTL:P3D
REFRESH-INTERVAL:P3D
CALSCALE:GREGORIAN
BEGIN:VEVENT
DTSTART:20090430T230000Z
DTEND:20090501T030000Z
X-MICROSOFT-CDO-ALLDAYEVENT:FALSE
SUMMARY:Pizza & Beer Tasting Charity Event for Children?s Center for Autism
DESCRIPTION:Pizza & Beer Tasting Charity Event for Children's Center for AutismThe Children's Center for Autism will hold its 6th Annual Pizza & Beer Tasting fundraiser on Thursday\, April 30 from 6 to 10 p.m. at Nick's Pizza & Pub\, 856 Pyott Road in Crystal Lake. Tickets are $40 for adults\, $10 for ages 13-20 and free for 12 and under. Enjoy all the pizza you can eat and all the handcrafted microbrews you can drink! The event include silent auction\, raffles\, games and music for the whole family.  Call (847) 639-4155 for tickets and more information
X-ALT-DESC;FMTTYPE=text/html:<h1 style="margin: 0in 0in 0pt"><span style="font-family: &quot\;Arial&quot\;\,&quot\;sans-serif&quot\;"><font size="3">Pizza &amp\; Beer Tasting Charity Event for Children&rsquo\;s Center for Autism</font></span></h1><p style="margin: 0in 0in 0pt"><span style="font-family: &quot\;Arial&quot\;\,&quot\;sans-serif&quot\;"><font size="3"><o:p><span>T</span></o:p><o:p><span>he Children&rsquo\;s Center for Autism will hold its 6<sup>th</sup> Annual Pizza &amp\; Beer Tasting fundraiser on Thursday\, April 30 from 6 to 10 p.m. at Nick&rsquo\;s Pizza &amp\; Pub\, 856 Pyott Road in Crystal Lake.&nbsp\;Tickets are $40 for adults\, $10 for ages 13-20 and free for 12 and under.&nbsp\;Enjoy all the pizza you can eat and all the handcrafted microbrews you can drink!&nbsp\;The event include silent auction\, raffles\, games and music for the whole family.&nbsp\; Call (847) 639-4155 for tickets and more information</span><br /><br /><br /><br /></o:p></font></span></p>
LOCATION:Nick's Pizza & Pub\, 856 Pyott Road in Crystal Lake
UID:e.138.451
SEQUENCE:3
DTSTAMP:20260424T231659Z
URL:https://business.carygrovechamber.com/events/details/pizza-beer-tasting-charity-event-for-children-s-center-for-autism-04-30-2009-451
END:VEVENT

END:VCALENDAR
