BEGIN:VCALENDAR
VERSION:2.0
PRODID:-//ChamberMaster//Event Calendar 2.0//EN
METHOD:PUBLISH
X-PUBLISHED-TTL:P3D
REFRESH-INTERVAL:P3D
CALSCALE:GREGORIAN
BEGIN:VEVENT
DTSTART;VALUE=DATE:20070816
DTEND;VALUE=DATE:20070817
TRANSP:TRANSPARENT
X-MICROSOFT-CDO-ALLDAYEVENT:TRUE
SUMMARY:Power Partners of Cary Grove Open House Breakfast for New Members
DESCRIPTION:Power Partners of Cary Grove Open House for New Members.  Learn about one of our Chamber-affilited networking groups and meet their members!
X-ALT-DESC;FMTTYPE=text/html:<div><font size="3"><strong>Power Partners of Cary Grove Open House for New Members</strong></font>.&nbsp\; Learn about one of our Chamber-affilited networking groups and meet their members!</div>
LOCATION:Panera Bread\, 730 Northwest Highway\, Fox River Grove
UID:e.138.104
SEQUENCE:3
DTSTAMP:20260426T015140Z
URL:https://business.carygrovechamber.com/events/details/power-partners-of-cary-grove-open-house-breakfast-for-new-members-08-16-2007-104
END:VEVENT

END:VCALENDAR
