BEGIN:VCALENDAR
VERSION:2.0
PRODID:-//ChamberMaster//Event Calendar 2.0//EN
METHOD:PUBLISH
X-PUBLISHED-TTL:P3D
REFRESH-INTERVAL:P3D
CALSCALE:GREGORIAN
BEGIN:VEVENT
DTSTART:20090219T233000Z
DTEND:20090220T013000Z
X-MICROSOFT-CDO-ALLDAYEVENT:FALSE
SUMMARY:Power Partners Winter Luau Mixer
DESCRIPTION:Power Partners of Cary Grove are hosting a winter luau at Chalet Hills Golf Club\, 943 Rawson Bridge Road in Cary on Thursday\, February 19 from 5:30   7:30 p.m.  Everyone is welcome to bring a guest!  A fun bingo game will be played to meet guests!  Winners will be drawn from all who complete their card.  Come out and connect with others!  Hope to see you there!
X-ALT-DESC;FMTTYPE=text/html:<p class="MsoNormal" style="margin: 0in 0in 0pt\; line-height: 14.4pt"><strong style="mso-bidi-font-weight: normal"><span style="font-size: 11pt\; color: black\; font-family: &quot\;Arial&quot\;\,&quot\;sans-serif&quot\;\; mso-bidi-font-size: 10.0pt">Power Partners of Cary Grove</span></strong><span style="font-size: 11pt\; color: black\; font-family: &quot\;Arial&quot\;\,&quot\;sans-serif&quot\;\; mso-bidi-font-size: 10.0pt"> are hosting a winter luau at<strong style="mso-bidi-font-weight: normal"> Chalet Hills Golf Club\, </strong><st1:street w:st="on"><st1:address w:st="on">943 Rawson Bridge Road</st1:address></st1:street> in <st1:city w:st="on"><st1:place w:st="on">Cary</st1:place></st1:city><strong style="mso-bidi-font-weight: normal"> </strong>on Thursday\, February 19 from <st1:time w:st="on" hour="17" minute="0">5:30 &ndash\; 7:30 p.m.</st1:time><span style="mso-spacerun: yes">&nbsp\; </span>Everyone is welcome to bring a guest! <span style="mso-spacerun: yes">&nbsp\;</span>A fun bingo game will be played to meet guests!<span style="mso-spacerun: yes">&nbsp\; </span>Winners will be drawn from all who complete their card.&nbsp\; Come out and connect with others!<span style="mso-spacerun: yes">&nbsp\; </span>Hope to see you there!<o:p></o:p></span></p>
LOCATION:Chalet Hills Golf Club943 Rawson Bridge Rd.\, Cary
UID:e.138.405
SEQUENCE:3
DTSTAMP:20260425T004618Z
URL:https://business.carygrovechamber.com/events/details/power-partners-winter-luau-mixer-02-19-2009-405
END:VEVENT

END:VCALENDAR
