BEGIN:VCALENDAR
VERSION:2.0
PRODID:-//ChamberMaster//Event Calendar 2.0//EN
METHOD:PUBLISH
X-PUBLISHED-TTL:P3D
REFRESH-INTERVAL:P3D
CALSCALE:GREGORIAN
BEGIN:VEVENT
DTSTART:20080415T233000Z
DTEND:20080416T010000Z
X-MICROSOFT-CDO-ALLDAYEVENT:FALSE
SUMMARY:Prepping your Young Athlete for the Spring Season
DESCRIPTION:Spring is just around the corner...and so is spring training for many young athletes.  Start your child's sport season on the right foot with Albert Kunth\, M.D. Pediatric Orthopedic surgeion with Orthopaedic Surgery Specialists.  He will speak on preventing injuries through proper conditioning and strength training.  Join him for a candid discussion about athletics and our youth.
X-ALT-DESC;FMTTYPE=text/html:Spring is just around the corner...and so is spring training for many young athletes.  Start your child's sport season on the right foot with Albert Kunth\, M.D. Pediatric Orthopedic surgeion with Orthopaedic Surgery Specialists.  He will speak on preventing injuries through proper conditioning and strength training.  Join him for a candid discussion about athletics and our youth.
LOCATION:Good Shepherd Hospital 450 Highway 22 Prairie Room Barrington\, IL 60010
UID:e.138.191
SEQUENCE:3
DTSTAMP:20260425T153911Z
URL:https://business.carygrovechamber.com/events/details/prepping-your-young-athlete-for-the-spring-season-04-15-2008-191
END:VEVENT

END:VCALENDAR
