BEGIN:VCALENDAR
VERSION:2.0
PRODID:-//ChamberMaster//Event Calendar 2.0//EN
METHOD:PUBLISH
X-PUBLISHED-TTL:P3D
REFRESH-INTERVAL:P3D
CALSCALE:GREGORIAN
BEGIN:VEVENT
DTSTART:20090521T000000Z
DTEND:20090521T013000Z
X-MICROSOFT-CDO-ALLDAYEVENT:FALSE
SUMMARY:Processed Foods - Subtle Deception
DESCRIPTION:This power-packed class will reveal the 10 categories of foods that cause dis-"ease"\, and "Red Flags" to look for on product ingredients.
X-ALT-DESC;FMTTYPE=text/html:This power-packed class will reveal the 10 categories of foods that cause dis-"ease"\, and "Red Flags" to look for on product ingredients.
LOCATION:820 Tera Cotta Ave. Crystal Lake\, IL 60014
UID:e.138.459
SEQUENCE:3
DTSTAMP:20260424T214654Z
URL:https://business.carygrovechamber.com/events/details/processed-foods-subtle-deception-05-20-2009-459
END:VEVENT

END:VCALENDAR
