BEGIN:VCALENDAR
VERSION:2.0
PRODID:-//ChamberMaster//Event Calendar 2.0//EN
METHOD:PUBLISH
X-PUBLISHED-TTL:P3D
REFRESH-INTERVAL:P3D
CALSCALE:GREGORIAN
BEGIN:VEVENT
DTSTART:20070927T220000Z
DTEND:20070928T000000Z
X-MICROSOFT-CDO-ALLDAYEVENT:FALSE
SUMMARY:Progressive Technology Solutions Mixer
DESCRIPTION:Progressive Technology Solutions Mixer
X-ALT-DESC;FMTTYPE=text/html:<div>Progressive Technology Solutions Mixer</div>
LOCATION:720 Industrial Drive\, Unit 113\, Cary
UID:e.138.121
SEQUENCE:3
DTSTAMP:20260426T004956Z
URL:https://business.carygrovechamber.com/events/details/progressive-technology-solutions-mixer-09-27-2007-121
END:VEVENT

END:VCALENDAR
