BEGIN:VCALENDAR
VERSION:2.0
PRODID:-//ChamberMaster//Event Calendar 2.0//EN
METHOD:PUBLISH
X-PUBLISHED-TTL:P3D
REFRESH-INTERVAL:P3D
CALSCALE:GREGORIAN
BEGIN:VEVENT
DTSTART:20120626T220000Z
DTEND:20120627T000000Z
X-MICROSOFT-CDO-ALLDAYEVENT:FALSE
SUMMARY:REAL ESTATE CLEAN class with CLEANING SOLUTIONS
DESCRIPTION:HOME SELLERS - BANKS - BROKERS - LANDLORDS - REAL ESTATE AGENTS & CLIENTS ...Join Kristi Butkus\, Cleaning Consultant & Educational Speaker with CLEANING SOLUTIONS for this class\, packed with must have information about "How To" clean all areas of a home from top to bottom-inside and out and necessary maintenace to make your property more marketable and appealing to get it SOLD!\n\n\n\nFREE class\; each attendee will take home a folder of information pertaining to the class topic\n\nFREE dinner\; provided by Rosati's of Cary\n\nFREE will donations by check will be collected in class\, for the Cary Grove Food Pantry\n\n\n\nReservations are required. Contact: Kristi (847) 644-4397 or EMail: cleansol@mc.net
X-ALT-DESC;FMTTYPE=text/html:HOME SELLERS - BANKS - BROKERS - LANDLORDS - REAL ESTATE AGENTS &amp\; CLIENTS ...Join Kristi Butkus\, Cleaning Consultant &amp\; Educational Speaker with CLEANING SOLUTIONS for this class\, packed with must have information about &quot\;How To&quot\; clean all areas of a home from top to bottom-inside and out and necessary maintenace to make your property more marketable and appealing to get it SOLD!<br />\n<br />\nFREE class\; each attendee will take home a folder of information pertaining to the class topic<br />\nFREE dinner\; provided by Rosati&#39\;s of Cary<br />\nFREE will donations by check will be collected in class\, for the Cary Grove Food Pantry<br />\n<br />\nReservations are required. Contact: Kristi (847) 644-4397 or EMail: cleansol@mc.net
LOCATION:Offices of SERVPRO of Southern McHenry County 600 Industrial Drive\, Suite K Cary\, Illinois 60013
UID:e.138.665
SEQUENCE:3
DTSTAMP:20260424T061056Z
URL:https://business.carygrovechamber.com/events/details/real-estate-clean-class-with-cleaning-solutions-06-26-2012-665
END:VEVENT

END:VCALENDAR
