BEGIN:VCALENDAR
VERSION:2.0
PRODID:-//ChamberMaster//Event Calendar 2.0//EN
METHOD:PUBLISH
X-PUBLISHED-TTL:P3D
REFRESH-INTERVAL:P3D
CALSCALE:GREGORIAN
BEGIN:VEVENT
DTSTART:20080422T230000Z
DTEND:20080423T010000Z
X-MICROSOFT-CDO-ALLDAYEVENT:FALSE
SUMMARY:Realty Executives on the Move Pizza Party
DESCRIPTION:Realty Executives on the Move is offering first time home buyers a free pizza party on Tuesday\, April 22 from 6   8 p.m. at their office\, 875 Feinberg Court in Cary.  First time home buyers who are interested in the market now or just want information for a future purchase are invited to come.  Local real estate attorney\, Charles Clark\, Mortgage Loan Officer\, Christine Paush and Realtors\, Michelle Frits and Jean Steffens of Realty Executives On the Move will speak to the group.  Come learn about the buying process from a legal perspective\, what is a short sale\, pre-foreclosure\, foreclosure and why you might consider this purchase\, what you need from a lender\, types of loans available\, what is a FICO score\, how to work with Buyers Agent\, what are the necessary buying steps and much more.  Reservations required by Monday\, April 21 by calling (847) 516-8282.
X-ALT-DESC;FMTTYPE=text/html:<h5 style="margin: auto 0in"><span lang="EN" style="font-size: 11pt\; font-family: &quot\;Arial&quot\;\,&quot\;sans-serif&quot\;\; mso-bidi-font-size: 10.0pt\; mso-ansi-language: EN">Realty Executives on the Move </span><span lang="EN" style="font-weight: normal\; font-size: 11pt\; font-family: &quot\;Arial&quot\;\,&quot\;sans-serif&quot\;\; mso-bidi-font-size: 10.0pt\; mso-ansi-language: EN">is offering first time home buyers a free pizza</span><span lang="EN" style="font-size: 11pt\; font-family: &quot\;Arial&quot\;\,&quot\;sans-serif&quot\;\; mso-bidi-font-size: 10.0pt\; mso-ansi-language: EN"> </span><span lang="EN" style="font-weight: normal\; font-size: 11pt\; font-family: &quot\;Arial&quot\;\,&quot\;sans-serif&quot\;\; mso-bidi-font-size: 10.0pt\; mso-ansi-language: EN">party on Tuesday\, April 22 from 6 &ndash\; 8 p.m. at their office\, 875 Feinberg Court in Cary.<span style="mso-spacerun: yes">&nbsp\; </span>First time home buyers who are interested in the market now or just want information for a future purchase are invited to come.<span style="mso-spacerun: yes">&nbsp\; </span>Local real estate attorney\, Charles Clark\, Mortgage Loan Officer\, Christine Paush and Realtors\, Michelle Frits and Jean Steffens of Realty Executives On the Move will speak to the group.<span style="mso-spacerun: yes">&nbsp\; </span>Come learn about the buying process from a legal perspective\, what is a short sale\, pre-foreclosure\, foreclosure and why you might consider this purchase\, what you need from a lender\, types of loans available\, what is a FICO score\, how to work with Buyers Agent\, what are the necessary buying steps and much more.<span style="mso-spacerun: yes">&nbsp\; </span>Reservations required by Monday\, April 21 by calling (847) 516-8282.</span><span lang="EN" style="font-size: 11pt\; font-family: &quot\;Arial&quot\;\,&quot\;sans-serif&quot\;\; mso-bidi-font-size: 10.0pt\; mso-ansi-language: EN"><o:p></o:p></span></h5>
LOCATION:875 Feinberg Ct.\, Cary
UID:e.138.224
SEQUENCE:3
DTSTAMP:20260425T164858Z
URL:https://business.carygrovechamber.com/events/details/realty-executives-on-the-move-pizza-party-04-22-2008-224
END:VEVENT

END:VCALENDAR
