BEGIN:VCALENDAR
VERSION:2.0
PRODID:-//ChamberMaster//Event Calendar 2.0//EN
METHOD:PUBLISH
X-PUBLISHED-TTL:P3D
REFRESH-INTERVAL:P3D
CALSCALE:GREGORIAN
BEGIN:VEVENT
DTSTART:20080328T140000Z
DTEND:20080328T220000Z
X-MICROSOFT-CDO-ALLDAYEVENT:FALSE
SUMMARY:Red Cross Babysitting Training Course
DESCRIPTION:Your children can spend their day off from school learning the information and skills necessary for safe and responsible childcare in the absence of parents or guardians. American Red Cross Babysitting Training Course and Basic First Aid cards will be awarded upon successful completion of this course. Participants should bring a drink\, snack\, and sack lunch plus a $15 check for the required handbook.
X-ALT-DESC;FMTTYPE=text/html:Your children can spend their day off from school learning the information and skills necessary for safe and responsible childcare in the absence of parents or guardians. American Red Cross Babysitting Training Course and Basic First Aid cards will be awarded upon successful completion of this course. Participants should bring a drink\, snack\, and sack lunch plus a $15 check for the required handbook. 
LOCATION:Cary Park District Community Center\, 255 Briargate Road\, Cary
UID:e.138.194
SEQUENCE:3
DTSTAMP:20260425T181115Z
URL:https://business.carygrovechamber.com/events/details/red-cross-babysitting-training-course-03-28-2008-194
END:VEVENT

END:VCALENDAR
